|SUCCESS| pw157197-157198 [PATCH] [v5,2/2] crypto/ipsec-mb: use cons

dpdklab at iol.unh.edu dpdklab at iol.unh.edu
Thu Oct 2 21:58:10 CEST 2025


Test-Label: iol-compile-amd64-testing
Test-Status: SUCCESS
http://dpdk.org/patch/157198

_Testing PASS_

Submitter: Kai Ji <kai.ji at intel.com>
Date: Wednesday, October 01 2025 15:32:42 
DPDK git baseline: Repo:dpdk
  Branch: master
  CommitID:2ffda8c2e357662354ee6ddcca769258c33642a9

157197-157198 --> testing pass

Upstream job id: Generic-DPDK-Compile-Meson#430464

Test environment and result as below:

+---------------------+--------------------+-------------------+-------------------------+----------------------+------------------+-------------------+
|     Environment     | dpdk_meson_compile | dpdk_msvc_compile | dpdk_llvm_clang_compile | dpdk_mingw64_compile | dpdk_compile_ovs | dpdk_compile_spdk |
+=====================+====================+===================+=========================+======================+==================+===================+
| Ubuntu 20.04        | PASS               | SKIPPED           | SKIPPED                 | SKIPPED              | SKIPPED          | SKIPPED           |
+---------------------+--------------------+-------------------+-------------------------+----------------------+------------------+-------------------+
| FreeBSD 14.2        | PASS               | SKIPPED           | SKIPPED                 | SKIPPED              | SKIPPED          | SKIPPED           |
+---------------------+--------------------+-------------------+-------------------------+----------------------+------------------+-------------------+
| Fedora Linux 42     | PASS               | SKIPPED           | SKIPPED                 | SKIPPED              | PASS             | PASS              |
+---------------------+--------------------+-------------------+-------------------------+----------------------+------------------+-------------------+
| Windows Server 2022 | SKIPPED            | PASS              | PASS                    | PASS                 | SKIPPED          | SKIPPED           |
+---------------------+--------------------+-------------------+-------------------------+----------------------+------------------+-------------------+


Ubuntu 20.04
	Kernel: 4.19
	Compiler: gcc gcc (Ubuntu 9.4.0-1ubuntu1~20.04.2) 9.4.0

FreeBSD 14.2
	Kernel: 14.2-RELEASE
	Compiler: clang 18.1.6

Fedora Linux 42
	Kernel: 5.15
	Compiler: gcc gcc (GCC) 15.2.1 20250808 (Red Hat 15.2.1-1)

Windows Server 2022
	Kernel: 10.0.20348.2031
	Compiler: clang 15.0.7, gcc 14.1.0 (MinGW), and MSVC VS 19.39.33521

To view detailed results, visit:
https://lab.dpdk.org/results/dashboard/patchsets/34195/

UNH-IOL DPDK Community Lab

To manage your email subscriptions, visit: 
https://lab.dpdk.org/results/dashboard/preferences/subscriptions/


More information about the test-report mailing list