|SUCCESS| pw157230 [PATCH] [v2] test/debug: fix crash with mlx5 devi
    dpdklab at iol.unh.edu 
    dpdklab at iol.unh.edu
       
    Fri Oct  3 09:50:27 CEST 2025
    
    
  
Test-Label: iol-compile-amd64-testing
Test-Status: SUCCESS
http://dpdk.org/patch/157230
_Testing PASS_
Submitter: David Marchand <david.marchand at redhat.com>
Date: Friday, October 03 2025 06:51:01 
DPDK git baseline: Repo:dpdk
  Branch: master
  CommitID:76393b98bf67f94dc6aa23cf5016c32571899261
157230 --> testing pass
Upstream job id: Windows-Compile-DPDK-Native#31391
Test environment and result as below:
+---------------------+-------------------------+-------------------+--------------------+
|     Environment     | dpdk_llvm_clang_compile | dpdk_msvc_compile | dpdk_meson_compile |
+=====================+=========================+===================+====================+
| Windows Server 2022 | PASS                    | PASS              | SKIPPED            |
+---------------------+-------------------------+-------------------+--------------------+
| FreeBSD 14.2        | SKIPPED                 | SKIPPED           | PASS               |
+---------------------+-------------------------+-------------------+--------------------+
| Ubuntu 20.04        | SKIPPED                 | SKIPPED           | PASS               |
+---------------------+-------------------------+-------------------+--------------------+
Windows Server 2022
	Kernel: 10.0.20348.2031
	Compiler: clang 15.0.7, gcc 14.1.0 (MinGW), and MSVC VS 19.39.33521
FreeBSD 14.2
	Kernel: 14.2-RELEASE
	Compiler: clang 18.1.6
Ubuntu 20.04
	Kernel: 4.19
	Compiler: gcc gcc (Ubuntu 9.4.0-1ubuntu1~20.04.2) 9.4.0
To view detailed results, visit:
https://lab.dpdk.org/results/dashboard/patchsets/34204/
UNH-IOL DPDK Community Lab
To manage your email subscriptions, visit: 
https://lab.dpdk.org/results/dashboard/preferences/subscriptions/
    
    
More information about the test-report
mailing list