|SUCCESS| [GIT MASTER] caa17cb4b057a31ee04067459fe543f7d7ae1079

dpdklab at iol.unh.edu dpdklab at iol.unh.edu
Fri Oct 3 23:57:10 CEST 2025


_Testing PASS_

Branch: dpdk-next-crypto

caa17cb4b057a31ee04067459fe543f7d7ae1079 --> testing pass

Upstream job id: Generic-DPDK-Compile-Meson#430668

Test environment and result as below:

+---------------------+--------------------+-------------------------+-------------------+------------------+-------------------+----------------------+
|     Environment     | dpdk_meson_compile | dpdk_llvm_clang_compile | dpdk_msvc_compile | dpdk_compile_ovs | dpdk_compile_spdk | dpdk_mingw64_compile |
+=====================+====================+=========================+===================+==================+===================+======================+
| Ubuntu 20.04        | PASS               | SKIPPED                 | SKIPPED           | SKIPPED          | SKIPPED           | SKIPPED              |
+---------------------+--------------------+-------------------------+-------------------+------------------+-------------------+----------------------+
| FreeBSD 14.2        | PASS               | SKIPPED                 | SKIPPED           | SKIPPED          | SKIPPED           | SKIPPED              |
+---------------------+--------------------+-------------------------+-------------------+------------------+-------------------+----------------------+
| Fedora Linux 42     | PASS               | SKIPPED                 | SKIPPED           | PASS             | PASS              | SKIPPED              |
+---------------------+--------------------+-------------------------+-------------------+------------------+-------------------+----------------------+
| CentOS Stream 10    | PASS               | SKIPPED                 | SKIPPED           | SKIPPED          | SKIPPED           | SKIPPED              |
+---------------------+--------------------+-------------------------+-------------------+------------------+-------------------+----------------------+
| Windows Server 2022 | SKIPPED            | PASS                    | PASS              | SKIPPED          | SKIPPED           | PASS                 |
+---------------------+--------------------+-------------------------+-------------------+------------------+-------------------+----------------------+


Ubuntu 20.04
	Kernel: 4.19
	Compiler: gcc gcc (Ubuntu 9.4.0-1ubuntu1~20.04.2) 9.4.0

FreeBSD 14.2
	Kernel: 14.2-RELEASE
	Compiler: clang 18.1.6

Fedora Linux 42
	Kernel: 5.15
	Compiler: gcc gcc (GCC) 15.2.1 20250808 (Red Hat 15.2.1-1)

CentOS Stream 10
	Kernel: 5.15
	Compiler: gcc gcc (GCC) 14.2.1 20250110 (Red Hat 14.2.1-8)

Windows Server 2022
	Kernel: 10.0.20348.2031
	Compiler: clang 15.0.7, gcc 14.1.0 (MinGW), and MSVC VS 19.39.33521

To view detailed results, visit:
https://lab.dpdk.org/results/dashboard/tarballs/35079/

UNH-IOL DPDK Community Lab

To manage your email subscriptions, visit: 
https://lab.dpdk.org/results/dashboard/preferences/subscriptions/


More information about the test-report mailing list