|SUCCESS| [GIT MASTER] 76393b98bf67f94dc6aa23cf5016c32571899261

dpdklab at iol.unh.edu dpdklab at iol.unh.edu
Sat Oct 4 09:15:57 CEST 2025


_Testing PASS_

Branch: dpdk

76393b98bf67f94dc6aa23cf5016c32571899261 --> testing pass

Upstream job id: Generic-DPDK-Compile-Meson#430824

Test environment and result as below:

+---------------------+--------------------+-------------------------+-------------------+----------------------+
|     Environment     | dpdk_meson_compile | dpdk_llvm_clang_compile | dpdk_msvc_compile | dpdk_mingw64_compile |
+=====================+====================+=========================+===================+======================+
| Ubuntu 20.04        | PASS               | SKIPPED                 | SKIPPED           | SKIPPED              |
+---------------------+--------------------+-------------------------+-------------------+----------------------+
| FreeBSD 14.2        | PASS               | SKIPPED                 | SKIPPED           | SKIPPED              |
+---------------------+--------------------+-------------------------+-------------------+----------------------+
| CentOS Stream 10    | PASS               | SKIPPED                 | SKIPPED           | SKIPPED              |
+---------------------+--------------------+-------------------------+-------------------+----------------------+
| Windows Server 2022 | SKIPPED            | PASS                    | PASS              | PASS                 |
+---------------------+--------------------+-------------------------+-------------------+----------------------+


Ubuntu 20.04
	Kernel: 4.19
	Compiler: gcc gcc (Ubuntu 9.4.0-1ubuntu1~20.04.2) 9.4.0

FreeBSD 14.2
	Kernel: 14.2-RELEASE
	Compiler: clang 18.1.6

CentOS Stream 10
	Kernel: 5.15
	Compiler: gcc gcc (GCC) 14.2.1 20250110 (Red Hat 14.2.1-8)

Windows Server 2022
	Kernel: 10.0.20348.2031
	Compiler: clang 15.0.7, gcc 14.1.0 (MinGW), and MSVC VS 19.39.33521

To view detailed results, visit:
https://lab.dpdk.org/results/dashboard/tarballs/35103/

UNH-IOL DPDK Community Lab

To manage your email subscriptions, visit: 
https://lab.dpdk.org/results/dashboard/preferences/subscriptions/


More information about the test-report mailing list