|SUCCESS| pw157177-157195 [PATCH] [v1,20/20] net/ntnic: rename nt lo

dpdklab at iol.unh.edu dpdklab at iol.unh.edu
Sat Oct 4 10:00:46 CEST 2025


Test-Label: iol-compile-amd64-testing
Test-Status: SUCCESS
http://dpdk.org/patch/157195

_Testing PASS_

Submitter: Serhii Iliushyk <sil-plv at napatech.com>
Date: Wednesday, October 01 2025 15:10:02 
DPDK git baseline: Repo:dpdk-next-net
  Branch: master
  CommitID:c04bbd131b2c14b3049bf86d3ef367b34e6fdf1e

157177-157195 --> testing pass

Upstream job id: Generic-DPDK-Compile-Meson#430830

Test environment and result as below:

+---------------------+--------------------+-------------------------+-------------------+----------------------+-------------------+------------------+
|     Environment     | dpdk_meson_compile | dpdk_llvm_clang_compile | dpdk_msvc_compile | dpdk_mingw64_compile | dpdk_compile_spdk | dpdk_compile_ovs |
+=====================+====================+=========================+===================+======================+===================+==================+
| Ubuntu 20.04        | PASS               | SKIPPED                 | SKIPPED           | SKIPPED              | SKIPPED           | SKIPPED          |
+---------------------+--------------------+-------------------------+-------------------+----------------------+-------------------+------------------+
| FreeBSD 14.2        | PASS               | SKIPPED                 | SKIPPED           | SKIPPED              | SKIPPED           | SKIPPED          |
+---------------------+--------------------+-------------------------+-------------------+----------------------+-------------------+------------------+
| CentOS Stream 9     | PASS               | SKIPPED                 | SKIPPED           | SKIPPED              | PASS              | SKIPPED          |
+---------------------+--------------------+-------------------------+-------------------+----------------------+-------------------+------------------+
| CentOS Stream 10    | PASS               | SKIPPED                 | SKIPPED           | SKIPPED              | SKIPPED           | SKIPPED          |
+---------------------+--------------------+-------------------------+-------------------+----------------------+-------------------+------------------+
| Debian GNU/Linux 12 | PASS               | SKIPPED                 | SKIPPED           | SKIPPED              | PASS              | SKIPPED          |
+---------------------+--------------------+-------------------------+-------------------+----------------------+-------------------+------------------+
| Fedora Linux 42     | PASS               | SKIPPED                 | SKIPPED           | SKIPPED              | PASS              | PASS             |
+---------------------+--------------------+-------------------------+-------------------+----------------------+-------------------+------------------+
| Windows Server 2022 | SKIPPED            | PASS                    | PASS              | PASS                 | SKIPPED           | SKIPPED          |
+---------------------+--------------------+-------------------------+-------------------+----------------------+-------------------+------------------+


Ubuntu 20.04
	Kernel: 4.19
	Compiler: gcc gcc (Ubuntu 9.4.0-1ubuntu1~20.04.2) 9.4.0

FreeBSD 14.2
	Kernel: 14.2-RELEASE
	Compiler: clang 18.1.6

CentOS Stream 9
	Kernel: 5.15
	Compiler: gcc gcc (GCC) 11.5.0 20240719 (Red Hat 11.5.0-11)

CentOS Stream 10
	Kernel: 5.15
	Compiler: gcc gcc (GCC) 14.2.1 20250110 (Red Hat 14.2.1-8)

Debian GNU/Linux 12
	Kernel: 5.15
	Compiler: gcc gcc (Debian 12.2.0-14+deb12u1) 12.2.0

Fedora Linux 42
	Kernel: 5.15
	Compiler: clang gcc (GCC) 15.2.1 20250808 (Red Hat 15.2.1-1)

Windows Server 2022
	Kernel: 10.0.20348.2031
	Compiler: clang 15.0.7, gcc 14.1.0 (MinGW), and MSVC VS 19.39.33521

To view detailed results, visit:
https://lab.dpdk.org/results/dashboard/patchsets/34194/

UNH-IOL DPDK Community Lab

To manage your email subscriptions, visit: 
https://lab.dpdk.org/results/dashboard/preferences/subscriptions/


More information about the test-report mailing list