|SUCCESS| pw157202-157204 [PATCH] [v4,3/3] dts: add performance test

dpdklab at iol.unh.edu dpdklab at iol.unh.edu
Sun Oct 5 01:50:33 CEST 2025


Test-Label: iol-compile-amd64-testing
Test-Status: SUCCESS
http://dpdk.org/patch/157204

_Testing PASS_

Submitter: Patrick Robb <probb at iol.unh.edu>
Date: Wednesday, October 01 2025 23:16:59 
DPDK git baseline: Repo:dpdk-next-dts
  Branch: master
  CommitID:b71d7bdf2b663f9fedc1d344b81a8cf65518026c

157202-157204 --> testing pass

Upstream job id: Generic-DPDK-Compile-Meson#430940

Test environment and result as below:

+---------------------+--------------------+-------------------------+-------------------+----------------------+-------------------+------------------+
|     Environment     | dpdk_meson_compile | dpdk_llvm_clang_compile | dpdk_msvc_compile | dpdk_mingw64_compile | dpdk_compile_spdk | dpdk_compile_ovs |
+=====================+====================+=========================+===================+======================+===================+==================+
| Ubuntu 20.04        | PASS               | SKIPPED                 | SKIPPED           | SKIPPED              | SKIPPED           | SKIPPED          |
+---------------------+--------------------+-------------------------+-------------------+----------------------+-------------------+------------------+
| FreeBSD 14.2        | PASS               | SKIPPED                 | SKIPPED           | SKIPPED              | SKIPPED           | SKIPPED          |
+---------------------+--------------------+-------------------------+-------------------+----------------------+-------------------+------------------+
| Alpine Linux 3.22.0 | PASS               | SKIPPED                 | SKIPPED           | SKIPPED              | SKIPPED           | SKIPPED          |
+---------------------+--------------------+-------------------------+-------------------+----------------------+-------------------+------------------+
| openSUSE Leap 15.6  | PASS               | SKIPPED                 | SKIPPED           | SKIPPED              | SKIPPED           | SKIPPED          |
+---------------------+--------------------+-------------------------+-------------------+----------------------+-------------------+------------------+
| CentOS Stream 9     | PASS               | SKIPPED                 | SKIPPED           | SKIPPED              | PASS              | SKIPPED          |
+---------------------+--------------------+-------------------------+-------------------+----------------------+-------------------+------------------+
| CentOS Stream 10    | PASS               | SKIPPED                 | SKIPPED           | SKIPPED              | SKIPPED           | SKIPPED          |
+---------------------+--------------------+-------------------------+-------------------+----------------------+-------------------+------------------+
| Debian GNU/Linux 12 | PASS               | SKIPPED                 | SKIPPED           | SKIPPED              | PASS              | SKIPPED          |
+---------------------+--------------------+-------------------------+-------------------+----------------------+-------------------+------------------+
| Fedora Linux 42     | PASS               | SKIPPED                 | SKIPPED           | SKIPPED              | PASS              | PASS             |
+---------------------+--------------------+-------------------------+-------------------+----------------------+-------------------+------------------+
| Windows Server 2022 | SKIPPED            | PASS                    | PASS              | PASS                 | SKIPPED           | SKIPPED          |
+---------------------+--------------------+-------------------------+-------------------+----------------------+-------------------+------------------+


Ubuntu 20.04
	Kernel: 4.19
	Compiler: gcc gcc (Ubuntu 9.4.0-1ubuntu1~20.04.2) 9.4.0

FreeBSD 14.2
	Kernel: 14.2-RELEASE
	Compiler: clang 18.1.6

Alpine Linux 3.22.0
	Kernel: 5.15
	Compiler: gcc gcc (Alpine 14.2.0) 14.2.0

openSUSE Leap 15.6
	Kernel: 5.15
	Compiler: gcc gcc (SUSE Linux) 7.5.0

CentOS Stream 9
	Kernel: 5.15
	Compiler: gcc gcc (GCC) 11.5.0 20240719 (Red Hat 11.5.0-11)

CentOS Stream 10
	Kernel: 5.15
	Compiler: gcc gcc (GCC) 14.2.1 20250110 (Red Hat 14.2.1-8)

Debian GNU/Linux 12
	Kernel: 5.15
	Compiler: gcc gcc (Debian 12.2.0-14+deb12u1) 12.2.0

Fedora Linux 42
	Kernel: 5.15
	Compiler: clang gcc (GCC) 15.2.1 20250808 (Red Hat 15.2.1-1)

Windows Server 2022
	Kernel: 10.0.20348.2031
	Compiler: clang 15.0.7, gcc 14.1.0 (MinGW), and MSVC VS 19.39.33521

To view detailed results, visit:
https://lab.dpdk.org/results/dashboard/patchsets/34197/

UNH-IOL DPDK Community Lab

To manage your email subscriptions, visit: 
https://lab.dpdk.org/results/dashboard/preferences/subscriptions/


More information about the test-report mailing list