|SUCCESS| pw157202-157204 [PATCH] [v4,3/3] dts: add performance test

dpdklab at iol.unh.edu dpdklab at iol.unh.edu
Sun Oct 5 10:46:17 CEST 2025


Test-Label: iol-compile-arm64-testing
Test-Status: SUCCESS
http://dpdk.org/patch/157204

_Testing PASS_

Submitter: Patrick Robb <probb at iol.unh.edu>
Date: Wednesday, October 01 2025 23:16:59 
DPDK git baseline: Repo:dpdk-next-dts
  Branch: master
  CommitID:b71d7bdf2b663f9fedc1d344b81a8cf65518026c

157202-157204 --> testing pass

Upstream job id: Generic-DPDK-Compile-Meson#430941

Test environment and result as below:

+------------------------------+--------------------+
|         Environment          | dpdk_meson_compile |
+==============================+====================+
| Ubuntu 20.04                 | PASS               |
+------------------------------+--------------------+
| CentOS Stream 9              | PASS               |
+------------------------------+--------------------+
| Red Hat Enterprise Linux 9.5 | PASS               |
+------------------------------+--------------------+
| Debian GNU/Linux 12          | PASS               |
+------------------------------+--------------------+
| Fedora Linux 42              | PASS               |
+------------------------------+--------------------+
| Ubuntu 22.04                 | PASS               |
+------------------------------+--------------------+
| Ubuntu 24.04                 | PASS               |
+------------------------------+--------------------+
| CentOS Stream 10             | PASS               |
+------------------------------+--------------------+


Ubuntu 20.04
	Kernel: 5.15
	Compiler: gcc gcc (Ubuntu 9.4.0-1ubuntu1~20.04.2) 9.4.0

CentOS Stream 9
	Kernel: 5.4
	Compiler: gcc gcc (GCC) 11.5.0 20240719 (Red Hat 11.5.0-11)

Red Hat Enterprise Linux 9.5
	Kernel: 5.4
	Compiler: gcc gcc (GCC) 11.5.0 20240719 (Red Hat 11.5.0-2)

Debian GNU/Linux 12
	Kernel: 5.4
	Compiler: gcc gcc (Debian 12.2.0-14+deb12u1) 12.2.0

Fedora Linux 42
	Kernel: 5.4
	Compiler: gcc gcc (GCC) 15.2.1 20250808 (Red Hat 15.2.1-1)

Ubuntu 22.04
	Kernel: 5.4
	Compiler: gcc gcc (Ubuntu 11.4.0-1ubuntu1~22.04) 11.4.0

Ubuntu 24.04
	Kernel: 5.4
	Compiler: gcc gcc (Ubuntu 13.3.0-6ubuntu2~24.04) 13.3.0

CentOS Stream 10
	Kernel: 5.4
	Compiler: gcc gcc (GCC) 14.2.1 20250110 (Red Hat 14.2.1-8)

To view detailed results, visit:
https://lab.dpdk.org/results/dashboard/patchsets/34197/

UNH-IOL DPDK Community Lab

To manage your email subscriptions, visit: 
https://lab.dpdk.org/results/dashboard/preferences/subscriptions/


More information about the test-report mailing list