|SUCCESS| pw157295 [PATCH] [v5] net/intel: add IDPF PCI class ID sup
dpdklab at iol.unh.edu
dpdklab at iol.unh.edu
Mon Oct 6 13:02:29 CEST 2025
Test-Label: iol-compile-amd64-testing
Test-Status: SUCCESS
http://dpdk.org/patch/157295
_Testing PASS_
Submitter: Vemula Venkatesh <venkatesh.vemula at intel.com>
Date: Wednesday, October 01 2025 15:30:35
DPDK git baseline: Repo:dpdk-next-net-intel
Branch: master
CommitID:e7d8cc7ef4df3552575525697079d3c957cfcdaf
157295 --> testing pass
Upstream job id: Windows-Compile-DPDK-Native#31442
Test environment and result as below:
+---------------------+-------------------------+-------------------+--------------------+----------------------+
| Environment | dpdk_llvm_clang_compile | dpdk_msvc_compile | dpdk_meson_compile | dpdk_mingw64_compile |
+=====================+=========================+===================+====================+======================+
| Windows Server 2022 | PASS | PASS | SKIPPED | PASS |
+---------------------+-------------------------+-------------------+--------------------+----------------------+
| FreeBSD 14.2 | SKIPPED | SKIPPED | PASS | SKIPPED |
+---------------------+-------------------------+-------------------+--------------------+----------------------+
| Ubuntu 20.04 | SKIPPED | SKIPPED | PASS | SKIPPED |
+---------------------+-------------------------+-------------------+--------------------+----------------------+
Windows Server 2022
Kernel: 10.0.20348.2031
Compiler: clang 15.0.7, gcc 14.1.0 (MinGW), and MSVC VS 19.39.33521
FreeBSD 14.2
Kernel: 14.2-RELEASE
Compiler: clang 18.1.6
Ubuntu 20.04
Kernel: 4.19
Compiler: gcc gcc (Ubuntu 9.4.0-1ubuntu1~20.04.2) 9.4.0
To view detailed results, visit:
https://lab.dpdk.org/results/dashboard/patchsets/34220/
UNH-IOL DPDK Community Lab
To manage your email subscriptions, visit:
https://lab.dpdk.org/results/dashboard/preferences/subscriptions/
More information about the test-report
mailing list