|SUCCESS| pw157310-157311 [PATCH] [v2,2/2] net/ice: fix memory leak 
    dpdklab at iol.unh.edu 
    dpdklab at iol.unh.edu
       
    Tue Oct  7 15:52:37 CEST 2025
    
    
  
Test-Label: iol-compile-amd64-testing
Test-Status: SUCCESS
http://dpdk.org/patch/157311
_Testing PASS_
Submitter: Burakov, Anatoly <anatoly.burakov at intel.com>
Date: Tuesday, October 07 2025 12:42:12 
DPDK git baseline: Repo:dpdk-next-net-intel
  Branch: master
  CommitID:e7d8cc7ef4df3552575525697079d3c957cfcdaf
157310-157311 --> testing pass
Upstream job id: Windows-Compile-DPDK-Native#31466
Test environment and result as below:
+---------------------+-------------------------+--------------------+-------------------+----------------------+
|     Environment     | dpdk_llvm_clang_compile | dpdk_meson_compile | dpdk_msvc_compile | dpdk_mingw64_compile |
+=====================+=========================+====================+===================+======================+
| Windows Server 2022 | PASS                    | SKIPPED            | PASS              | PASS                 |
+---------------------+-------------------------+--------------------+-------------------+----------------------+
| Ubuntu 20.04        | SKIPPED                 | PASS               | SKIPPED           | SKIPPED              |
+---------------------+-------------------------+--------------------+-------------------+----------------------+
| FreeBSD 14.2        | SKIPPED                 | PASS               | SKIPPED           | SKIPPED              |
+---------------------+-------------------------+--------------------+-------------------+----------------------+
Windows Server 2022
	Kernel: 10.0.20348.2031
	Compiler: clang 15.0.7, gcc 14.1.0 (MinGW), and MSVC VS 19.39.33521
Ubuntu 20.04
	Kernel: 4.19
	Compiler: gcc gcc (Ubuntu 9.4.0-1ubuntu1~20.04.2) 9.4.0
FreeBSD 14.2
	Kernel: 14.2-RELEASE
	Compiler: clang 18.1.6
To view detailed results, visit:
https://lab.dpdk.org/results/dashboard/patchsets/34228/
UNH-IOL DPDK Community Lab
To manage your email subscriptions, visit: 
https://lab.dpdk.org/results/dashboard/preferences/subscriptions/
    
    
More information about the test-report
mailing list