|SUCCESS| pw157261-157263 [PATCH] [v5,3/3] net/ice: add PFC statisti
dpdklab at iol.unh.edu
dpdklab at iol.unh.edu
Tue Oct 7 18:34:50 CEST 2025
Test-Label: iol-compile-amd64-testing
Test-Status: SUCCESS
http://dpdk.org/patch/157263
_Testing PASS RETEST #1_
Submitter: Medvedkin, Vladimir <vladimir.medvedkin at intel.com>
Date: Friday, October 03 2025 12:40:37
DPDK git baseline: Repo:dpdk-next-net-intel
Branch: master
CommitID:e7d8cc7ef4df3552575525697079d3c957cfcdaf
157261-157263 --> testing pass
Upstream job id: Windows-Compile-DPDK-Native#31469
Test environment and result as below:
+---------------------+--------------------+-------------------+-------------------------+
| Environment | dpdk_meson_compile | dpdk_msvc_compile | dpdk_llvm_clang_compile |
+=====================+====================+===================+=========================+
| Ubuntu 20.04 | PASS | SKIPPED | SKIPPED |
+---------------------+--------------------+-------------------+-------------------------+
| FreeBSD 14.2 | PASS | SKIPPED | SKIPPED |
+---------------------+--------------------+-------------------+-------------------------+
| Windows Server 2022 | SKIPPED | PASS | PASS |
+---------------------+--------------------+-------------------+-------------------------+
Ubuntu 20.04
Kernel: 4.19
Compiler: gcc gcc (Ubuntu 9.4.0-1ubuntu1~20.04.2) 9.4.0
FreeBSD 14.2
Kernel: 14.2-RELEASE
Compiler: clang 18.1.6
Windows Server 2022
Kernel: 10.0.20348.2031
Compiler: clang 15.0.7, gcc 14.1.0 (MinGW), and MSVC VS 19.39.33521
To view detailed results, visit:
https://lab.dpdk.org/results/dashboard/patchsets/34210/
UNH-IOL DPDK Community Lab
To manage your email subscriptions, visit:
https://lab.dpdk.org/results/dashboard/preferences/subscriptions/
More information about the test-report
mailing list