|SUCCESS| pw157331-157351 [PATCH] [v10,21/21] eal: allow lcore remap

dpdklab at iol.unh.edu dpdklab at iol.unh.edu
Wed Oct 8 23:58:42 CEST 2025


Test-Label: iol-compile-amd64-testing
Test-Status: SUCCESS
http://dpdk.org/patch/157351

_Testing PASS_

Submitter: Bruce Richardson <bruce.richardson at intel.com>
Date: Wednesday, October 08 2025 20:42:44 
DPDK git baseline: Repo:dpdk
  Branch: master
  CommitID:2b403dd8fb37d0ba13723e44ffc7ee2c2795f838

157331-157351 --> testing pass

Upstream job id: Windows-Compile-DPDK-Native#31502

Test environment and result as below:

+---------------------+--------------------+-------------------------+-------------------+----------------------+
|     Environment     | dpdk_meson_compile | dpdk_llvm_clang_compile | dpdk_msvc_compile | dpdk_mingw64_compile |
+=====================+====================+=========================+===================+======================+
| Ubuntu 20.04        | PASS               | SKIPPED                 | SKIPPED           | SKIPPED              |
+---------------------+--------------------+-------------------------+-------------------+----------------------+
| FreeBSD 14.2        | PASS               | SKIPPED                 | SKIPPED           | SKIPPED              |
+---------------------+--------------------+-------------------------+-------------------+----------------------+
| Windows Server 2022 | SKIPPED            | PASS                    | PASS              | PASS                 |
+---------------------+--------------------+-------------------------+-------------------+----------------------+


Ubuntu 20.04
	Kernel: 4.19
	Compiler: gcc gcc (Ubuntu 9.4.0-1ubuntu1~20.04.2) 9.4.0

FreeBSD 14.2
	Kernel: 14.2-RELEASE
	Compiler: clang 18.1.6

Windows Server 2022
	Kernel: 10.0.20348.2031
	Compiler: clang 15.0.7, gcc 14.1.0 (MinGW), and MSVC VS 19.39.33521

To view detailed results, visit:
https://lab.dpdk.org/results/dashboard/patchsets/34239/

UNH-IOL DPDK Community Lab

To manage your email subscriptions, visit: 
https://lab.dpdk.org/results/dashboard/preferences/subscriptions/


More information about the test-report mailing list