|SUCCESS| [GIT MASTER] b287e404643aeab5bb5db084c142789df187844e
dpdklab at iol.unh.edu
dpdklab at iol.unh.edu
Thu Oct 9 12:32:02 CEST 2025
_Testing PASS_
Branch: tags/v24.11
b287e404643aeab5bb5db084c142789df187844e --> testing pass
Upstream job id: Generic-DPDK-Compile-Meson#432764
Test environment and result as below:
+---------------------+--------------------+-------------------+-------------------------+----------------------+-------------------+
| Environment | dpdk_meson_compile | dpdk_msvc_compile | dpdk_llvm_clang_compile | dpdk_mingw64_compile | dpdk_compile_spdk |
+=====================+====================+===================+=========================+======================+===================+
| Ubuntu 20.04 | PASS | SKIPPED | SKIPPED | SKIPPED | SKIPPED |
+---------------------+--------------------+-------------------+-------------------------+----------------------+-------------------+
| FreeBSD 14.2 | PASS | SKIPPED | SKIPPED | SKIPPED | SKIPPED |
+---------------------+--------------------+-------------------+-------------------------+----------------------+-------------------+
| CentOS Stream 9 | PASS | SKIPPED | SKIPPED | SKIPPED | PASS |
+---------------------+--------------------+-------------------+-------------------------+----------------------+-------------------+
| Windows Server 2022 | SKIPPED | PASS | PASS | PASS | SKIPPED |
+---------------------+--------------------+-------------------+-------------------------+----------------------+-------------------+
Ubuntu 20.04
Kernel: 4.19
Compiler: gcc gcc (Ubuntu 9.4.0-1ubuntu1~20.04.2) 9.4.0
FreeBSD 14.2
Kernel: 14.2-RELEASE
Compiler: clang 18.1.6
CentOS Stream 9
Kernel: 5.15
Compiler: gcc gcc (GCC) 11.5.0 20240719 (Red Hat 11.5.0-11)
Windows Server 2022
Kernel: 10.0.20348.2031
Compiler: clang 15.0.7, gcc 14.1.0 (MinGW), and MSVC VS 19.39.33521
To view detailed results, visit:
https://lab.dpdk.org/results/dashboard/tarballs/35151/
UNH-IOL DPDK Community Lab
To manage your email subscriptions, visit:
https://lab.dpdk.org/results/dashboard/preferences/subscriptions/
More information about the test-report
mailing list