|SUCCESS| pw157370-157390 [PATCH] [v11,21/21] eal: allow lcore remap

dpdklab at iol.unh.edu dpdklab at iol.unh.edu
Thu Oct 9 16:15:26 CEST 2025


Test-Label: iol-compile-amd64-testing
Test-Status: SUCCESS
http://dpdk.org/patch/157390

_Testing PASS_

Submitter: Bruce Richardson <bruce.richardson at intel.com>
Date: Thursday, October 09 2025 13:00:56 
DPDK git baseline: Repo:dpdk
  Branch: master
  CommitID:2b403dd8fb37d0ba13723e44ffc7ee2c2795f838

157370-157390 --> testing pass

Upstream job id: Windows-Compile-DPDK-Native#31522

Test environment and result as below:

+---------------------+-------------------------+--------------------+-------------------+----------------------+
|     Environment     | dpdk_llvm_clang_compile | dpdk_meson_compile | dpdk_msvc_compile | dpdk_mingw64_compile |
+=====================+=========================+====================+===================+======================+
| Windows Server 2022 | PASS                    | SKIPPED            | PASS              | PASS                 |
+---------------------+-------------------------+--------------------+-------------------+----------------------+
| Ubuntu 20.04        | SKIPPED                 | PASS               | SKIPPED           | SKIPPED              |
+---------------------+-------------------------+--------------------+-------------------+----------------------+
| FreeBSD 14.2        | SKIPPED                 | PASS               | SKIPPED           | SKIPPED              |
+---------------------+-------------------------+--------------------+-------------------+----------------------+


Windows Server 2022
	Kernel: 10.0.20348.2031
	Compiler: clang 15.0.7, gcc 14.1.0 (MinGW), and MSVC VS 19.39.33521

Ubuntu 20.04
	Kernel: 4.19
	Compiler: gcc gcc (Ubuntu 9.4.0-1ubuntu1~20.04.2) 9.4.0

FreeBSD 14.2
	Kernel: 14.2-RELEASE
	Compiler: clang 18.1.6

To view detailed results, visit:
https://lab.dpdk.org/results/dashboard/patchsets/34246/

UNH-IOL DPDK Community Lab

To manage your email subscriptions, visit: 
https://lab.dpdk.org/results/dashboard/preferences/subscriptions/


More information about the test-report mailing list