|SUCCESS| pw157456 [PATCH] [v2] crypto/virtio: free memory used by o

dpdklab at iol.unh.edu dpdklab at iol.unh.edu
Sat Oct 11 11:43:07 CEST 2025


Test-Label: iol-unit-arm64-testing
Test-Status: SUCCESS
http://dpdk.org/patch/157456

_Testing PASS_

Submitter: Gowrishankar Muthukrishnan <gmuthukrishn at marvell.com>
Date: Saturday, October 11 2025 04:37:03 
DPDK git baseline: Repo:dpdk-next-crypto
  Branch: master
  CommitID:2aa7141a4e2c78e3cce03dbd613532a2166123c1

157456 --> testing pass

Upstream job id: Generic-Unit-Test-DPDK#380437

Test environment and result as below:

+------------------------------+---------------------------+--------------+----------------+------------------------------+
|         Environment          | cryptodev_sw_zuc_autotest | lpm_autotest | dpdk_unit_test | cryptodev_sw_snow3g_autotest |
+==============================+===========================+==============+================+==============================+
| Debian 12 (arm)              | PASS                      | SKIPPED      | SKIPPED        | PASS                         |
+------------------------------+---------------------------+--------------+----------------+------------------------------+
| Ubuntu 20.04                 | SKIPPED                   | PASS         | PASS           | SKIPPED                      |
+------------------------------+---------------------------+--------------+----------------+------------------------------+
| CentOS Stream 9              | SKIPPED                   | SKIPPED      | PASS           | SKIPPED                      |
+------------------------------+---------------------------+--------------+----------------+------------------------------+
| Debian GNU/Linux 12          | SKIPPED                   | SKIPPED      | PASS           | SKIPPED                      |
+------------------------------+---------------------------+--------------+----------------+------------------------------+
| Fedora Linux 40              | SKIPPED                   | SKIPPED      | PASS           | SKIPPED                      |
+------------------------------+---------------------------+--------------+----------------+------------------------------+
| CentOS Stream 10             | SKIPPED                   | SKIPPED      | PASS           | SKIPPED                      |
+------------------------------+---------------------------+--------------+----------------+------------------------------+
| Fedora Linux 42              | SKIPPED                   | SKIPPED      | PASS           | SKIPPED                      |
+------------------------------+---------------------------+--------------+----------------+------------------------------+
| Fedora Linux 41              | SKIPPED                   | SKIPPED      | PASS           | SKIPPED                      |
+------------------------------+---------------------------+--------------+----------------+------------------------------+
| Red Hat Enterprise Linux 9.5 | SKIPPED                   | SKIPPED      | PASS           | SKIPPED                      |
+------------------------------+---------------------------+--------------+----------------+------------------------------+
| Ubuntu 22.04                 | SKIPPED                   | SKIPPED      | PASS           | SKIPPED                      |
+------------------------------+---------------------------+--------------+----------------+------------------------------+
| Ubuntu 24.04                 | SKIPPED                   | SKIPPED      | PASS           | SKIPPED                      |
+------------------------------+---------------------------+--------------+----------------+------------------------------+


Debian 12 (arm)
	Kernel: Depends on container host
	Compiler: gcc (Debian 12.2.0-14) 12.2.0

Ubuntu 20.04
	Kernel: 5.4
	Compiler: gcc gcc (Ubuntu 9.4.0-1ubuntu1~20.04.2) 9.4.0

CentOS Stream 9
	Kernel: 5.4
	Compiler: gcc gcc (GCC) 11.5.0 20240719 (Red Hat 11.5.0-11)

Debian GNU/Linux 12
	Kernel: 5.4
	Compiler: gcc gcc (Debian 12.2.0-14+deb12u1) 12.2.0

Fedora Linux 40
	Kernel: 5.4
	Compiler: gcc gcc (GCC) 14.2.1 20240912 (Red Hat 14.2.1-3)

CentOS Stream 10
	Kernel: 5.4
	Compiler: gcc gcc (GCC) 14.2.1 20250110 (Red Hat 14.2.1-8)

Fedora Linux 42
	Kernel: 5.4
	Compiler: gcc gcc (GCC) 15.2.1 20250808 (Red Hat 15.2.1-1)

Fedora Linux 41
	Kernel: 5.4
	Compiler: gcc gcc (GCC) 14.3.1 20250523 (Red Hat 14.3.1-1)

Red Hat Enterprise Linux 9.5
	Kernel: 5.4
	Compiler: gcc gcc (GCC) 11.5.0 20240719 (Red Hat 11.5.0-2)

Ubuntu 22.04
	Kernel: 5.4
	Compiler: gcc gcc (Ubuntu 11.4.0-1ubuntu1~22.04) 11.4.0

Ubuntu 24.04
	Kernel: 5.4
	Compiler: gcc gcc (Ubuntu 13.3.0-6ubuntu2~24.04) 13.3.0

To view detailed results, visit:
https://lab.dpdk.org/results/dashboard/patchsets/34254/

UNH-IOL DPDK Community Lab

To manage your email subscriptions, visit: 
https://lab.dpdk.org/results/dashboard/preferences/subscriptions/


More information about the test-report mailing list