|SUCCESS| pw157683 [PATCH] dmadev: replace zero length array
    dpdklab at iol.unh.edu 
    dpdklab at iol.unh.edu
       
    Thu Oct 16 11:34:25 CEST 2025
    
    
  
Test-Label: iol-unit-arm64-testing
Test-Status: SUCCESS
http://dpdk.org/patch/157683
_Testing PASS_
Submitter: Stephen Hemminger <stephen at networkplumber.org>
Date: Wednesday, October 15 2025 18:59:46 
DPDK git baseline: Repo:dpdk
  Branch: master
  CommitID:f15575af65c3ede008ecf89665a265fd2793b6ec
157683 --> testing pass
Upstream job id: Generic-Unit-Test-DPDK#381802
Test environment and result as below:
+------------------------------+----------------+--------------+---------------------------+------------------------------+
|         Environment          | dpdk_unit_test | lpm_autotest | cryptodev_sw_zuc_autotest | cryptodev_sw_snow3g_autotest |
+==============================+================+==============+===========================+==============================+
| CentOS Stream 9              | PASS           | SKIPPED      | SKIPPED                   | SKIPPED                      |
+------------------------------+----------------+--------------+---------------------------+------------------------------+
| Debian GNU/Linux 12          | PASS           | SKIPPED      | SKIPPED                   | SKIPPED                      |
+------------------------------+----------------+--------------+---------------------------+------------------------------+
| CentOS Stream 10             | PASS           | SKIPPED      | SKIPPED                   | SKIPPED                      |
+------------------------------+----------------+--------------+---------------------------+------------------------------+
| Fedora Linux 41              | PASS           | SKIPPED      | SKIPPED                   | SKIPPED                      |
+------------------------------+----------------+--------------+---------------------------+------------------------------+
| Fedora Linux 40              | PASS           | SKIPPED      | SKIPPED                   | SKIPPED                      |
+------------------------------+----------------+--------------+---------------------------+------------------------------+
| Fedora Linux 42              | PASS           | SKIPPED      | SKIPPED                   | SKIPPED                      |
+------------------------------+----------------+--------------+---------------------------+------------------------------+
| Red Hat Enterprise Linux 9.5 | PASS           | SKIPPED      | SKIPPED                   | SKIPPED                      |
+------------------------------+----------------+--------------+---------------------------+------------------------------+
| Ubuntu 22.04                 | PASS           | SKIPPED      | SKIPPED                   | SKIPPED                      |
+------------------------------+----------------+--------------+---------------------------+------------------------------+
| Ubuntu 24.04                 | PASS           | SKIPPED      | SKIPPED                   | SKIPPED                      |
+------------------------------+----------------+--------------+---------------------------+------------------------------+
| Ubuntu 20.04                 | PASS           | PASS         | SKIPPED                   | SKIPPED                      |
+------------------------------+----------------+--------------+---------------------------+------------------------------+
| Debian 12 (arm)              | SKIPPED        | SKIPPED      | PASS                      | PASS                         |
+------------------------------+----------------+--------------+---------------------------+------------------------------+
CentOS Stream 9
	Kernel: 5.4
	Compiler: gcc gcc (GCC) 11.5.0 20240719 (Red Hat 11.5.0-11)
Debian GNU/Linux 12
	Kernel: 5.4
	Compiler: gcc gcc (Debian 12.2.0-14+deb12u1) 12.2.0
CentOS Stream 10
	Kernel: 5.4
	Compiler: gcc gcc (GCC) 14.2.1 20250110 (Red Hat 14.2.1-8)
Fedora Linux 41
	Kernel: 5.4
	Compiler: gcc gcc (GCC) 14.3.1 20250523 (Red Hat 14.3.1-1)
Fedora Linux 40
	Kernel: 5.4
	Compiler: gcc gcc (GCC) 14.2.1 20240912 (Red Hat 14.2.1-3)
Fedora Linux 42
	Kernel: 5.4
	Compiler: clang gcc (GCC) 15.2.1 20250808 (Red Hat 15.2.1-1)
Red Hat Enterprise Linux 9.5
	Kernel: 5.4
	Compiler: gcc gcc (GCC) 11.5.0 20240719 (Red Hat 11.5.0-2)
Ubuntu 22.04
	Kernel: 5.4
	Compiler: gcc gcc (Ubuntu 11.4.0-1ubuntu1~22.04) 11.4.0
Ubuntu 24.04
	Kernel: 5.4
	Compiler: gcc gcc (Ubuntu 13.3.0-6ubuntu2~24.04) 13.3.0
Ubuntu 20.04
	Kernel: 5.4
	Compiler: gcc gcc (Ubuntu 9.4.0-1ubuntu1~20.04.2) 9.4.0
Debian 12 (arm)
	Kernel: Depends on container host
	Compiler: gcc (Debian 12.2.0-14) 12.2.0
To view detailed results, visit:
https://lab.dpdk.org/results/dashboard/patchsets/34288/
UNH-IOL DPDK Community Lab
To manage your email subscriptions, visit: 
https://lab.dpdk.org/results/dashboard/preferences/subscriptions/
    
    
More information about the test-report
mailing list