|WARNING| pw157735-157754 [PATCH] [v5,21/21] doc: update release not
    dpdklab at iol.unh.edu 
    dpdklab at iol.unh.edu
       
    Fri Oct 17 02:26:26 CEST 2025
    
    
  
Test-Label: iol-compile-amd64-testing
Test-Status: WARNING
http://dpdk.org/patch/157754
_Testing issues_
Submitter: Zaiyu Wang <zaiyuwang at trustnetic.com>
Date: Thursday, October 16 2025 11:17:35 
DPDK git baseline: Repo:dpdk-next-net
  Branch: master
  CommitID:791cea04798a8e2de014b99c009cd25b5929000a
157735-157754 --> testing issues
Upstream job id: Generic-DPDK-Compile-Meson#435005
Test environment and result as below:
+---------------------+--------------------+-------------------+-------------------------+----------------------+-------------------+
|     Environment     | dpdk_meson_compile | dpdk_msvc_compile | dpdk_llvm_clang_compile | dpdk_mingw64_compile | dpdk_compile_spdk |
+=====================+====================+===================+=========================+======================+===================+
| Ubuntu 20.04        | PASS               | SKIPPED           | SKIPPED                 | SKIPPED              | SKIPPED           |
+---------------------+--------------------+-------------------+-------------------------+----------------------+-------------------+
| FreeBSD 14.2        | PASS               | SKIPPED           | SKIPPED                 | SKIPPED              | SKIPPED           |
+---------------------+--------------------+-------------------+-------------------------+----------------------+-------------------+
| CentOS Stream 9     | PASS               | SKIPPED           | SKIPPED                 | SKIPPED              | WARN              |
+---------------------+--------------------+-------------------+-------------------------+----------------------+-------------------+
| CentOS Stream 10    | PASS               | SKIPPED           | SKIPPED                 | SKIPPED              | SKIPPED           |
+---------------------+--------------------+-------------------+-------------------------+----------------------+-------------------+
| Windows Server 2022 | SKIPPED            | PASS              | PASS                    | PASS                 | SKIPPED           |
+---------------------+--------------------+-------------------+-------------------------+----------------------+-------------------+
==== 20 line log output for CentOS Stream 9 (dpdk_compile_spdk): ====
 --- Failed to get log output --- 
==== End log output ====
Ubuntu 20.04
	Kernel: 4.19
	Compiler: gcc gcc (Ubuntu 9.4.0-1ubuntu1~20.04.2) 9.4.0
FreeBSD 14.2
	Kernel: 14.2-RELEASE
	Compiler: clang 18.1.6
CentOS Stream 9
	Kernel: 5.15
	Compiler: gcc gcc (GCC) 11.5.0 20240719 (Red Hat 11.5.0-11)
CentOS Stream 10
	Kernel: 5.15
	Compiler: gcc gcc (GCC) 14.2.1 20250110 (Red Hat 14.2.1-8)
Windows Server 2022
	Kernel: 10.0.20348.2031
	Compiler: clang 15.0.7, gcc 14.1.0 (MinGW), and MSVC VS 19.39.33521
To view detailed results, visit:
https://lab.dpdk.org/results/dashboard/patchsets/34299/
UNH-IOL DPDK Community Lab
To manage your email subscriptions, visit: 
https://lab.dpdk.org/results/dashboard/preferences/subscriptions/
    
    
More information about the test-report
mailing list