|SUCCESS| pw157797-157799 [PATCH] [v7,3/3] doc: note on unsupported

dpdklab at iol.unh.edu dpdklab at iol.unh.edu
Fri Oct 17 13:37:56 CEST 2025


Test-Label: iol-compile-amd64-testing
Test-Status: SUCCESS
http://dpdk.org/patch/157799

_Testing PASS_

Submitter: Shaiq Wani <shaiq.wani at intel.com>
Date: Friday, October 17 2025 10:34:15 
DPDK git baseline: Repo:dpdk-next-net-intel
  Branch: master
  CommitID:6b997d6b9ffdbb4f8ecd14d1f217da69cdc783af

157797-157799 --> testing pass

Upstream job id: Generic-DPDK-Compile-Meson#435224

Test environment and result as below:

+--------------+--------------------+
| Environment  | dpdk_meson_compile |
+==============+====================+
| FreeBSD 14.2 | PASS               |
+--------------+--------------------+
| Ubuntu 20.04 | PASS               |
+--------------+--------------------+
| Ubuntu 24.04 | PASS               |
+--------------+--------------------+


FreeBSD 14.2
	Kernel: 14.2-RELEASE
	Compiler: clang 18.1.6

Ubuntu 20.04
	Kernel: 4.19
	Compiler: gcc gcc (Ubuntu 9.4.0-1ubuntu1~20.04.2) 9.4.0

Ubuntu 24.04
	Kernel: 5.15
	Compiler: gcc gcc (Ubuntu 13.3.0-6ubuntu2~24.04) 13.3.0

To view detailed results, visit:
https://lab.dpdk.org/results/dashboard/patchsets/34311/

UNH-IOL DPDK Community Lab

To manage your email subscriptions, visit: 
https://lab.dpdk.org/results/dashboard/preferences/subscriptions/


More information about the test-report mailing list