|SUCCESS| pw157802-157804 [PATCH] [RFC,3/3] app/testpmd: support por

dpdklab at iol.unh.edu dpdklab at iol.unh.edu
Fri Oct 17 15:19:43 CEST 2025


Test-Label: iol-compile-amd64-testing
Test-Status: SUCCESS
http://dpdk.org/patch/157804

_Testing PASS_

Submitter: Ciara Loftus <ciara.loftus at intel.com>
Date: Friday, October 17 2025 11:11:09 
DPDK git baseline: Repo:dpdk-next-net
  Branch: master
  CommitID:535c49b6264f1df239703b8250b070e4c4cda2e9

157802-157804 --> testing pass

Upstream job id: Windows-Compile-DPDK-VS#7238

Test environment and result as below:

+---------------------+--------------------+-------------------+
|     Environment     | dpdk_meson_compile | dpdk_msvc_compile |
+=====================+====================+===================+
| FreeBSD 14.2        | PASS               | SKIPPED           |
+---------------------+--------------------+-------------------+
| Ubuntu 20.04        | PASS               | SKIPPED           |
+---------------------+--------------------+-------------------+
| Windows Server 2022 | SKIPPED            | PASS              |
+---------------------+--------------------+-------------------+


FreeBSD 14.2
	Kernel: 14.2-RELEASE
	Compiler: clang 18.1.6

Ubuntu 20.04
	Kernel: 4.19
	Compiler: gcc gcc (Ubuntu 9.4.0-1ubuntu1~20.04.2) 9.4.0

Windows Server 2022
	Kernel: 10.0.20348.2031
	Compiler: clang 15.0.7, gcc 14.1.0 (MinGW), and MSVC VS 19.39.33521

To view detailed results, visit:
https://lab.dpdk.org/results/dashboard/patchsets/34313/

UNH-IOL DPDK Community Lab

To manage your email subscriptions, visit: 
https://lab.dpdk.org/results/dashboard/preferences/subscriptions/


More information about the test-report mailing list