|WARNING| pw157784-157795 [PATCH] [v2,12/12] net/enetc: Add support
dpdklab at iol.unh.edu
dpdklab at iol.unh.edu
Fri Oct 17 17:30:56 CEST 2025
Test-Label: iol-compile-amd64-testing
Test-Status: WARNING
http://dpdk.org/patch/157795
_Testing issues_
Submitter: Vanshika Shukla <vanshika.shukla at nxp.com>
Date: Friday, October 17 2025 09:19:29
DPDK git baseline: Repo:dpdk-next-net
Branch: master
CommitID:535c49b6264f1df239703b8250b070e4c4cda2e9
157784-157795 --> testing issues
Upstream job id: Generic-DPDK-Compile-Meson#435356
Test environment and result as below:
+-------------------------------+--------------------+-------------------------+-------------------+----------------------+-------------------+------------------+
| Environment | dpdk_meson_compile | dpdk_llvm_clang_compile | dpdk_msvc_compile | dpdk_mingw64_compile | dpdk_compile_spdk | dpdk_compile_ovs |
+===============================+====================+=========================+===================+======================+===================+==================+
| Ubuntu 20.04 | PASS | SKIPPED | SKIPPED | SKIPPED | SKIPPED | SKIPPED |
+-------------------------------+--------------------+-------------------------+-------------------+----------------------+-------------------+------------------+
| FreeBSD 14.2 | PASS | SKIPPED | SKIPPED | SKIPPED | SKIPPED | SKIPPED |
+-------------------------------+--------------------+-------------------------+-------------------+----------------------+-------------------+------------------+
| CentOS Stream 9 | PASS | SKIPPED | SKIPPED | SKIPPED | WARN | SKIPPED |
+-------------------------------+--------------------+-------------------------+-------------------+----------------------+-------------------+------------------+
| CentOS Stream 10 | PASS | SKIPPED | SKIPPED | SKIPPED | SKIPPED | SKIPPED |
+-------------------------------+--------------------+-------------------------+-------------------+----------------------+-------------------+------------------+
| Debian GNU/Linux 12 | PASS | SKIPPED | SKIPPED | SKIPPED | PEND | SKIPPED |
+-------------------------------+--------------------+-------------------------+-------------------+----------------------+-------------------+------------------+
| Fedora Linux 42 | PEND | SKIPPED | SKIPPED | SKIPPED | PEND | PEND |
+-------------------------------+--------------------+-------------------------+-------------------+----------------------+-------------------+------------------+
| openSUSE Leap 15.6 | PASS | SKIPPED | SKIPPED | SKIPPED | SKIPPED | SKIPPED |
+-------------------------------+--------------------+-------------------------+-------------------+----------------------+-------------------+------------------+
| Red Hat Enterprise Linux 8.10 | PASS | SKIPPED | SKIPPED | SKIPPED | SKIPPED | SKIPPED |
+-------------------------------+--------------------+-------------------------+-------------------+----------------------+-------------------+------------------+
| Windows Server 2022 | SKIPPED | PASS | PASS | PASS | SKIPPED | SKIPPED |
+-------------------------------+--------------------+-------------------------+-------------------+----------------------+-------------------+------------------+
==== 20 line log output for CentOS Stream 9 (dpdk_compile_spdk): ====
--- Failed to get log output ---
==== End log output ====
Ubuntu 20.04
Kernel: 4.19
Compiler: gcc gcc (Ubuntu 9.4.0-1ubuntu1~20.04.2) 9.4.0
FreeBSD 14.2
Kernel: 14.2-RELEASE
Compiler: clang 18.1.6
CentOS Stream 9
Kernel: 5.15
Compiler: gcc gcc (GCC) 11.5.0 20240719 (Red Hat 11.5.0-11)
CentOS Stream 10
Kernel: 5.15
Compiler: gcc gcc (GCC) 14.2.1 20250110 (Red Hat 14.2.1-8)
Debian GNU/Linux 12
Kernel: 5.15
Compiler: gcc gcc (Debian 12.2.0-14+deb12u1) 12.2.0
Fedora Linux 42
Kernel: 5.15
Compiler: clang gcc (GCC) 15.2.1 20250808 (Red Hat 15.2.1-1)
openSUSE Leap 15.6
Kernel: 5.15
Compiler: gcc gcc (SUSE Linux) 7.5.0
Red Hat Enterprise Linux 8.10
Kernel: 5.15
Compiler: gcc gcc (GCC) 8.5.0 20210514 (Red Hat 8.5.0-22)
Windows Server 2022
Kernel: 10.0.20348.2031
Compiler: clang 15.0.7, gcc 14.1.0 (MinGW), and MSVC VS 19.39.33521
To view detailed results, visit:
https://lab.dpdk.org/results/dashboard/patchsets/34309/
UNH-IOL DPDK Community Lab
To manage your email subscriptions, visit:
https://lab.dpdk.org/results/dashboard/preferences/subscriptions/
More information about the test-report
mailing list