|WARNING| pw157807-157808 [PATCH] [v3,2/2] mailmap: sort mailmap

dpdklab at iol.unh.edu dpdklab at iol.unh.edu
Fri Oct 17 21:17:28 CEST 2025


Test-Label: iol-compile-amd64-testing
Test-Status: WARNING
http://dpdk.org/patch/157808

_Testing issues_

Submitter: Bruce Richardson <bruce.richardson at intel.com>
Date: Friday, October 17 2025 13:38:08 
DPDK git baseline: Repo:dpdk
  Branch: master
  CommitID:438491733c2d8a109574449d3d6de9b25a05c07c

157807-157808 --> testing issues

Upstream job id: Generic-DPDK-Compile-Meson#435521

Test environment and result as below:

+---------------------+-------------------------+-------------------+--------------------+----------------------+-------------------+
|     Environment     | dpdk_llvm_clang_compile | dpdk_msvc_compile | dpdk_meson_compile | dpdk_mingw64_compile | dpdk_compile_spdk |
+=====================+=========================+===================+====================+======================+===================+
| Windows Server 2022 | PASS                    | PASS              | SKIPPED            | PASS                 | SKIPPED           |
+---------------------+-------------------------+-------------------+--------------------+----------------------+-------------------+
| FreeBSD 14.2        | SKIPPED                 | SKIPPED           | PASS               | SKIPPED              | SKIPPED           |
+---------------------+-------------------------+-------------------+--------------------+----------------------+-------------------+
| Ubuntu 20.04        | SKIPPED                 | SKIPPED           | PASS               | SKIPPED              | SKIPPED           |
+---------------------+-------------------------+-------------------+--------------------+----------------------+-------------------+
| CentOS Stream 9     | SKIPPED                 | SKIPPED           | PASS               | SKIPPED              | WARN              |
+---------------------+-------------------------+-------------------+--------------------+----------------------+-------------------+
| CentOS Stream 10    | SKIPPED                 | SKIPPED           | PASS               | SKIPPED              | SKIPPED           |
+---------------------+-------------------------+-------------------+--------------------+----------------------+-------------------+
| Debian GNU/Linux 12 | SKIPPED                 | SKIPPED           | PEND               | SKIPPED              | PEND              |
+---------------------+-------------------------+-------------------+--------------------+----------------------+-------------------+

==== 20 line log output for CentOS Stream 9 (dpdk_compile_spdk): ====
 --- Failed to get log output --- 
==== End log output ====

Windows Server 2022
	Kernel: 10.0.20348.2031
	Compiler: clang 15.0.7, gcc 14.1.0 (MinGW), and MSVC VS 19.39.33521

FreeBSD 14.2
	Kernel: 14.2-RELEASE
	Compiler: clang 18.1.6

Ubuntu 20.04
	Kernel: 4.19
	Compiler: gcc gcc (Ubuntu 9.4.0-1ubuntu1~20.04.2) 9.4.0

CentOS Stream 9
	Kernel: 5.15
	Compiler: gcc gcc (GCC) 11.5.0 20240719 (Red Hat 11.5.0-11)

CentOS Stream 10
	Kernel: 5.15
	Compiler: gcc gcc (GCC) 14.2.1 20250110 (Red Hat 14.2.1-8)

Debian GNU/Linux 12
	Kernel: 5.15
	Compiler: gcc gcc (Debian 12.2.0-14+deb12u1) 12.2.0

To view detailed results, visit:
https://lab.dpdk.org/results/dashboard/patchsets/34316/

UNH-IOL DPDK Community Lab

To manage your email subscriptions, visit: 
https://lab.dpdk.org/results/dashboard/preferences/subscriptions/


More information about the test-report mailing list