|WARNING| pw157812-157813 [PATCH] [v2,2/2] usertools/dpdk-telemetry-

dpdklab at iol.unh.edu dpdklab at iol.unh.edu
Sat Oct 18 00:31:42 CEST 2025


Test-Label: iol-compile-amd64-testing
Test-Status: WARNING
http://dpdk.org/patch/157813

_Testing issues_

Submitter: Bruce Richardson <bruce.richardson at intel.com>
Date: Friday, October 17 2025 14:19:27 
DPDK git baseline: Repo:dpdk
  Branch: master
  CommitID:438491733c2d8a109574449d3d6de9b25a05c07c

157812-157813 --> testing issues

Upstream job id: Generic-DPDK-Compile-Meson#435562

Test environment and result as below:

+---------------------+-------------------------+-------------------+--------------------+----------------------+-------------------+
|     Environment     | dpdk_llvm_clang_compile | dpdk_msvc_compile | dpdk_meson_compile | dpdk_mingw64_compile | dpdk_compile_spdk |
+=====================+=========================+===================+====================+======================+===================+
| Windows Server 2022 | PASS                    | PASS              | SKIPPED            | PASS                 | SKIPPED           |
+---------------------+-------------------------+-------------------+--------------------+----------------------+-------------------+
| FreeBSD 14.2        | SKIPPED                 | SKIPPED           | PASS               | SKIPPED              | SKIPPED           |
+---------------------+-------------------------+-------------------+--------------------+----------------------+-------------------+
| Ubuntu 20.04        | SKIPPED                 | SKIPPED           | PASS               | SKIPPED              | SKIPPED           |
+---------------------+-------------------------+-------------------+--------------------+----------------------+-------------------+
| CentOS Stream 9     | SKIPPED                 | SKIPPED           | PASS               | SKIPPED              | WARN              |
+---------------------+-------------------------+-------------------+--------------------+----------------------+-------------------+

==== 20 line log output for CentOS Stream 9 (dpdk_compile_spdk): ====
 --- Failed to get log output --- 
==== End log output ====

Windows Server 2022
	Kernel: 10.0.20348.2031
	Compiler: clang 15.0.7, gcc 14.1.0 (MinGW), and MSVC VS 19.39.33521

FreeBSD 14.2
	Kernel: 14.2-RELEASE
	Compiler: clang 18.1.6

Ubuntu 20.04
	Kernel: 4.19
	Compiler: gcc gcc (Ubuntu 9.4.0-1ubuntu1~20.04.2) 9.4.0

CentOS Stream 9
	Kernel: 5.15
	Compiler: gcc gcc (GCC) 11.5.0 20240719 (Red Hat 11.5.0-11)

To view detailed results, visit:
https://lab.dpdk.org/results/dashboard/patchsets/34319/

UNH-IOL DPDK Community Lab

To manage your email subscriptions, visit: 
https://lab.dpdk.org/results/dashboard/preferences/subscriptions/


More information about the test-report mailing list