|SUCCESS| pw157825 [PATCH] [v2] test/ring_perf: add optional cross L
    dpdklab at iol.unh.edu 
    dpdklab at iol.unh.edu
       
    Sat Oct 18 09:40:29 CEST 2025
    
    
  
Test-Label: iol-compile-amd64-testing
Test-Status: SUCCESS
http://dpdk.org/patch/157825
_Testing PASS_
Submitter: Sivaprasad Tummala <Sivaprasad.Tummala at amd.com>
Date: Saturday, October 18 2025 06:48:27 
DPDK git baseline: Repo:dpdk
  Branch: master
  CommitID:fd6bb586ca832c0cd6a84bcf7123a6063b3ae133
157825 --> testing pass
Upstream job id: Windows-Compile-DPDK-Native#31740
Test environment and result as below:
+---------------------+-------------------------+--------------------+-------------------+----------------------+
|     Environment     | dpdk_llvm_clang_compile | dpdk_meson_compile | dpdk_msvc_compile | dpdk_mingw64_compile |
+=====================+=========================+====================+===================+======================+
| Windows Server 2022 | PASS                    | SKIPPED            | PASS              | PASS                 |
+---------------------+-------------------------+--------------------+-------------------+----------------------+
| Ubuntu 20.04        | SKIPPED                 | PASS               | SKIPPED           | SKIPPED              |
+---------------------+-------------------------+--------------------+-------------------+----------------------+
| FreeBSD 14.2        | SKIPPED                 | PASS               | SKIPPED           | SKIPPED              |
+---------------------+-------------------------+--------------------+-------------------+----------------------+
Windows Server 2022
	Kernel: 10.0.20348.2031
	Compiler: clang 15.0.7, gcc 14.1.0 (MinGW), and MSVC VS 19.39.33521
Ubuntu 20.04
	Kernel: 4.19
	Compiler: gcc gcc (Ubuntu 9.4.0-1ubuntu1~20.04.2) 9.4.0
FreeBSD 14.2
	Kernel: 14.2-RELEASE
	Compiler: clang 18.1.6
To view detailed results, visit:
https://lab.dpdk.org/results/dashboard/patchsets/34323/
UNH-IOL DPDK Community Lab
To manage your email subscriptions, visit: 
https://lab.dpdk.org/results/dashboard/preferences/subscriptions/
    
    
More information about the test-report
mailing list