|WARNING| pw157856-157857 [PATCH] [v4,2/2] mailmap: sort mailmap

dpdklab at iol.unh.edu dpdklab at iol.unh.edu
Mon Oct 20 16:57:03 CEST 2025


Test-Label: iol-compile-amd64-testing
Test-Status: WARNING
http://dpdk.org/patch/157857

_Testing issues_

Submitter: Bruce Richardson <bruce.richardson at intel.com>
Date: Monday, October 20 2025 14:08:02 
DPDK git baseline: Repo:dpdk
  Branch: master
  CommitID:3e19094cb697998972e7f89bdd3ab08ea457ae1f

157856-157857 --> testing issues

Upstream job id: Generic-DPDK-Compile-Meson#436286

Test environment and result as below:

+-------------------------------+--------------------+-------------------+-------------------+------------------+
|          Environment          | dpdk_meson_compile | dpdk_msvc_compile | dpdk_compile_spdk | dpdk_compile_ovs |
+===============================+====================+===================+===================+==================+
| Ubuntu 20.04                  | PASS               | SKIPPED           | SKIPPED           | SKIPPED          |
+-------------------------------+--------------------+-------------------+-------------------+------------------+
| FreeBSD 14.2                  | PASS               | SKIPPED           | SKIPPED           | SKIPPED          |
+-------------------------------+--------------------+-------------------+-------------------+------------------+
| CentOS Stream 9               | PEND               | SKIPPED           | PEND              | SKIPPED          |
+-------------------------------+--------------------+-------------------+-------------------+------------------+
| CentOS Stream 10              | PASS               | SKIPPED           | SKIPPED           | SKIPPED          |
+-------------------------------+--------------------+-------------------+-------------------+------------------+
| Fedora Linux 42               | PEND               | SKIPPED           | PEND              | PEND             |
+-------------------------------+--------------------+-------------------+-------------------+------------------+
| Debian GNU/Linux 12           | PASS               | SKIPPED           | WARN              | SKIPPED          |
+-------------------------------+--------------------+-------------------+-------------------+------------------+
| openSUSE Leap 15.6            | PEND               | SKIPPED           | SKIPPED           | SKIPPED          |
+-------------------------------+--------------------+-------------------+-------------------+------------------+
| Red Hat Enterprise Linux 8.10 | PASS               | SKIPPED           | SKIPPED           | SKIPPED          |
+-------------------------------+--------------------+-------------------+-------------------+------------------+
| Red Hat Enterprise Linux 9.5  | PASS               | SKIPPED           | SKIPPED           | SKIPPED          |
+-------------------------------+--------------------+-------------------+-------------------+------------------+
| Ubuntu 22.04                  | PEND               | SKIPPED           | PEND              | SKIPPED          |
+-------------------------------+--------------------+-------------------+-------------------+------------------+
| Windows Server 2022           | SKIPPED            | PEND              | SKIPPED           | SKIPPED          |
+-------------------------------+--------------------+-------------------+-------------------+------------------+

==== 20 line log output for Debian GNU/Linux 12 (dpdk_compile_spdk): ====
 --- Failed to get log output --- 
==== End log output ====

Ubuntu 20.04
	Kernel: 4.19
	Compiler: gcc gcc (Ubuntu 9.4.0-1ubuntu1~20.04.2) 9.4.0

FreeBSD 14.2
	Kernel: 14.2-RELEASE
	Compiler: clang 18.1.6

CentOS Stream 9
	Kernel: 5.15
	Compiler: gcc gcc (GCC) 11.5.0 20240719 (Red Hat 11.5.0-11)

CentOS Stream 10
	Kernel: 5.15
	Compiler: gcc gcc (GCC) 14.2.1 20250110 (Red Hat 14.2.1-8)

Fedora Linux 42
	Kernel: 5.15
	Compiler: clang gcc (GCC) 15.2.1 20250808 (Red Hat 15.2.1-1)

Debian GNU/Linux 12
	Kernel: 5.15
	Compiler: gcc gcc (Debian 12.2.0-14+deb12u1) 12.2.0

openSUSE Leap 15.6
	Kernel: 5.15
	Compiler: gcc gcc (SUSE Linux) 7.5.0

Red Hat Enterprise Linux 8.10
	Kernel: 5.15
	Compiler: gcc gcc (GCC) 8.5.0 20210514 (Red Hat 8.5.0-22)

Red Hat Enterprise Linux 9.5
	Kernel: 5.15
	Compiler: gcc gcc (GCC) 11.5.0 20240719 (Red Hat 11.5.0-2)

Ubuntu 22.04
	Kernel: 5.15
	Compiler: gcc gcc (Ubuntu 11.4.0-1ubuntu1~22.04) 11.4.0

Windows Server 2022
	Kernel: 10.0.20348.2031
	Compiler: clang 15.0.7, gcc 14.1.0 (MinGW), and MSVC VS 19.39.33521

To view detailed results, visit:
https://lab.dpdk.org/results/dashboard/patchsets/34332/

UNH-IOL DPDK Community Lab

To manage your email subscriptions, visit: 
https://lab.dpdk.org/results/dashboard/preferences/subscriptions/


More information about the test-report mailing list