|WARNING| pw157858 [PATCH] devtools/test-meson-builds: reduce output

dpdklab at iol.unh.edu dpdklab at iol.unh.edu
Mon Oct 20 21:56:32 CEST 2025


Test-Label: iol-compile-amd64-testing
Test-Status: WARNING
http://dpdk.org/patch/157858

_Testing issues_

Submitter: Bruce Richardson <bruce.richardson at intel.com>
Date: Monday, October 20 2025 15:55:36 
DPDK git baseline: Repo:dpdk
  Branch: master
  CommitID:0a3410709d0d35c4914e468f2606c69b615d48e7

157858 --> testing issues

Upstream job id: Generic-DPDK-Compile-Meson#436308

Test environment and result as below:

+---------------------+--------------------+-------------------+-------------------------+----------------------+-------------------+
|     Environment     | dpdk_meson_compile | dpdk_msvc_compile | dpdk_llvm_clang_compile | dpdk_mingw64_compile | dpdk_compile_spdk |
+=====================+====================+===================+=========================+======================+===================+
| Ubuntu 20.04        | PASS               | SKIPPED           | SKIPPED                 | SKIPPED              | SKIPPED           |
+---------------------+--------------------+-------------------+-------------------------+----------------------+-------------------+
| FreeBSD 14.2        | PASS               | SKIPPED           | SKIPPED                 | SKIPPED              | SKIPPED           |
+---------------------+--------------------+-------------------+-------------------------+----------------------+-------------------+
| CentOS Stream 9     | PEND               | SKIPPED           | SKIPPED                 | SKIPPED              | PEND              |
+---------------------+--------------------+-------------------+-------------------------+----------------------+-------------------+
| CentOS Stream 10    | PASS               | SKIPPED           | SKIPPED                 | SKIPPED              | SKIPPED           |
+---------------------+--------------------+-------------------+-------------------------+----------------------+-------------------+
| Debian GNU/Linux 12 | PASS               | SKIPPED           | SKIPPED                 | SKIPPED              | WARN              |
+---------------------+--------------------+-------------------+-------------------------+----------------------+-------------------+
| Windows Server 2022 | SKIPPED            | PASS              | PASS                    | PASS                 | SKIPPED           |
+---------------------+--------------------+-------------------+-------------------------+----------------------+-------------------+

==== 20 line log output for Debian GNU/Linux 12 (dpdk_compile_spdk): ====
 --- Failed to get log output --- 
==== End log output ====

Ubuntu 20.04
	Kernel: 4.19
	Compiler: gcc gcc (Ubuntu 9.4.0-1ubuntu1~20.04.2) 9.4.0

FreeBSD 14.2
	Kernel: 14.2-RELEASE
	Compiler: clang 18.1.6

CentOS Stream 9
	Kernel: 5.15
	Compiler: gcc gcc (GCC) 11.5.0 20240719 (Red Hat 11.5.0-11)

CentOS Stream 10
	Kernel: 5.15
	Compiler: gcc gcc (GCC) 14.2.1 20250110 (Red Hat 14.2.1-8)

Debian GNU/Linux 12
	Kernel: 5.15
	Compiler: gcc gcc (Debian 12.2.0-14+deb12u1) 12.2.0

Windows Server 2022
	Kernel: 10.0.20348.2031
	Compiler: clang 15.0.7, gcc 14.1.0 (MinGW), and MSVC VS 19.39.33521

To view detailed results, visit:
https://lab.dpdk.org/results/dashboard/patchsets/34333/

UNH-IOL DPDK Community Lab

To manage your email subscriptions, visit: 
https://lab.dpdk.org/results/dashboard/preferences/subscriptions/


More information about the test-report mailing list