|WARNING| pw158011 [PATCH] [v3] net/vmxnet3: disable RSS for single
dpdklab at iol.unh.edu
dpdklab at iol.unh.edu
Thu Oct 23 15:20:30 CEST 2025
Test-Label: iol-compile-amd64-testing
Test-Status: WARNING
http://dpdk.org/patch/158011
_Testing issues_
Submitter: Amiya Ranjan Mohakud <amiyaranjan.mohakud at gmail.com>
Date: Thursday, October 23 2025 08:30:19
DPDK git baseline: Repo:dpdk-next-net
Branch: master
CommitID:4c4055bdd19f919795f83a01faae9fc267570d7f
158011 --> testing issues
Upstream job id: Generic-DPDK-Compile-Meson#437030
Test environment and result as below:
+---------------------+--------------------+-------------------+-------------------------+----------------------+-------------------+
| Environment | dpdk_meson_compile | dpdk_msvc_compile | dpdk_llvm_clang_compile | dpdk_mingw64_compile | dpdk_compile_spdk |
+=====================+====================+===================+=========================+======================+===================+
| Ubuntu 20.04 | PASS | SKIPPED | SKIPPED | SKIPPED | SKIPPED |
+---------------------+--------------------+-------------------+-------------------------+----------------------+-------------------+
| FreeBSD 14.2 | PASS | SKIPPED | SKIPPED | SKIPPED | SKIPPED |
+---------------------+--------------------+-------------------+-------------------------+----------------------+-------------------+
| CentOS Stream 9 | PASS | SKIPPED | SKIPPED | SKIPPED | WARN |
+---------------------+--------------------+-------------------+-------------------------+----------------------+-------------------+
| Windows Server 2022 | SKIPPED | PASS | PASS | PASS | SKIPPED |
+---------------------+--------------------+-------------------+-------------------------+----------------------+-------------------+
==== 20 line log output for CentOS Stream 9 (dpdk_compile_spdk): ====
--- Failed to get log output ---
==== End log output ====
Ubuntu 20.04
Kernel: 4.19
Compiler: gcc gcc (Ubuntu 9.4.0-1ubuntu1~20.04.2) 9.4.0
FreeBSD 14.2
Kernel: 14.2-RELEASE
Compiler: clang 18.1.6
CentOS Stream 9
Kernel: 5.15
Compiler: gcc gcc (GCC) 11.5.0 20240719 (Red Hat 11.5.0-11)
Windows Server 2022
Kernel: 10.0.20348.2031
Compiler: clang 15.0.7, gcc 14.1.0 (MinGW), and MSVC VS 19.39.33521
To view detailed results, visit:
https://lab.dpdk.org/results/dashboard/patchsets/34355/
UNH-IOL DPDK Community Lab
To manage your email subscriptions, visit:
https://lab.dpdk.org/results/dashboard/preferences/subscriptions/
More information about the test-report
mailing list