|SUCCESS| pw158003-158008 [PATCH] [v5,6/6] net/cnxk: report link mod
    dpdklab at iol.unh.edu 
    dpdklab at iol.unh.edu
       
    Thu Oct 23 22:32:06 CEST 2025
    
    
  
Test-Label: iol-unit-arm64-testing
Test-Status: SUCCESS
http://dpdk.org/patch/158008
_Testing PASS_
Submitter: Sunil Kumar Kori <skori at marvell.com>
Date: Thursday, October 23 2025 07:53:30 
DPDK git baseline: Repo:dpdk
  Branch: master
  CommitID:2863cbd9ee6dabee2b183382d298f4054ba3e8a2
158003-158008 --> testing pass
Upstream job id: Generic-Unit-Test-DPDK#384396
Test environment and result as below:
+------------------------------+------------------------------+---------------------------+----------------+--------------+
|         Environment          | cryptodev_sw_snow3g_autotest | cryptodev_sw_zuc_autotest | dpdk_unit_test | lpm_autotest |
+==============================+==============================+===========================+================+==============+
| Debian 12 (arm)              | PASS                         | PASS                      | SKIPPED        | SKIPPED      |
+------------------------------+------------------------------+---------------------------+----------------+--------------+
| CentOS Stream 10             | SKIPPED                      | SKIPPED                   | PASS           | SKIPPED      |
+------------------------------+------------------------------+---------------------------+----------------+--------------+
| Fedora Linux 41              | SKIPPED                      | SKIPPED                   | PASS           | SKIPPED      |
+------------------------------+------------------------------+---------------------------+----------------+--------------+
| Debian GNU/Linux 12          | SKIPPED                      | SKIPPED                   | PASS           | SKIPPED      |
+------------------------------+------------------------------+---------------------------+----------------+--------------+
| CentOS Stream 9              | SKIPPED                      | SKIPPED                   | PASS           | SKIPPED      |
+------------------------------+------------------------------+---------------------------+----------------+--------------+
| Red Hat Enterprise Linux 9.5 | SKIPPED                      | SKIPPED                   | PASS           | SKIPPED      |
+------------------------------+------------------------------+---------------------------+----------------+--------------+
| Ubuntu 20.04                 | SKIPPED                      | SKIPPED                   | PASS           | PASS         |
+------------------------------+------------------------------+---------------------------+----------------+--------------+
| Fedora Linux 40              | SKIPPED                      | SKIPPED                   | PASS           | SKIPPED      |
+------------------------------+------------------------------+---------------------------+----------------+--------------+
| Fedora Linux 42              | SKIPPED                      | SKIPPED                   | PASS           | SKIPPED      |
+------------------------------+------------------------------+---------------------------+----------------+--------------+
| Ubuntu 24.04                 | SKIPPED                      | SKIPPED                   | PASS           | SKIPPED      |
+------------------------------+------------------------------+---------------------------+----------------+--------------+
| Ubuntu 22.04                 | SKIPPED                      | SKIPPED                   | PASS           | SKIPPED      |
+------------------------------+------------------------------+---------------------------+----------------+--------------+
Debian 12 (arm)
	Kernel: Depends on container host
	Compiler: gcc (Debian 12.2.0-14) 12.2.0
CentOS Stream 10
	Kernel: 5.4
	Compiler: gcc gcc (GCC) 14.2.1 20250110 (Red Hat 14.2.1-8)
Fedora Linux 41
	Kernel: 5.4
	Compiler: gcc gcc (GCC) 14.3.1 20250523 (Red Hat 14.3.1-1)
Debian GNU/Linux 12
	Kernel: 5.4
	Compiler: gcc gcc (Debian 12.2.0-14+deb12u1) 12.2.0
CentOS Stream 9
	Kernel: 5.4
	Compiler: gcc gcc (GCC) 11.5.0 20240719 (Red Hat 11.5.0-11)
Red Hat Enterprise Linux 9.5
	Kernel: 5.4
	Compiler: gcc gcc (GCC) 11.5.0 20240719 (Red Hat 11.5.0-2)
Ubuntu 20.04
	Kernel: 5.4
	Compiler: gcc gcc (Ubuntu 9.4.0-1ubuntu1~20.04.2) 9.4.0
Fedora Linux 40
	Kernel: 5.4
	Compiler: gcc gcc (GCC) 14.2.1 20240912 (Red Hat 14.2.1-3)
Fedora Linux 42
	Kernel: 5.4
	Compiler: clang gcc (GCC) 15.2.1 20250808 (Red Hat 15.2.1-1)
Ubuntu 24.04
	Kernel: 5.4
	Compiler: gcc gcc (Ubuntu 13.3.0-6ubuntu2~24.04) 13.3.0
Ubuntu 22.04
	Kernel: 5.4
	Compiler: gcc gcc (Ubuntu 11.4.0-1ubuntu1~22.04) 11.4.0
To view detailed results, visit:
https://lab.dpdk.org/results/dashboard/patchsets/34353/
UNH-IOL DPDK Community Lab
To manage your email subscriptions, visit: 
https://lab.dpdk.org/results/dashboard/preferences/subscriptions/
    
    
More information about the test-report
mailing list