|WARNING| pw158061-158069 [PATCH] [v11,9/9] lib/pmu: fix out-of-boun

dpdklab at iol.unh.edu dpdklab at iol.unh.edu
Fri Oct 24 17:38:44 CEST 2025


Test-Label: iol-compile-amd64-testing
Test-Status: WARNING
http://dpdk.org/patch/158069

_Testing issues_

Submitter: Tomasz Duszynski <tduszynski at marvell.com>
Date: Friday, October 24 2025 05:48:30 
DPDK git baseline: Repo:dpdk
  Branch: master
  CommitID:6edcec237e31fcdb848cca6c151ee7a5bf057c28

158061-158069 --> testing issues

Upstream job id: Generic-DPDK-Compile-Meson#437312

Test environment and result as below:

+---------------------+--------------------+-------------------------+-------------------+----------------------+------------------+-------------------+
|     Environment     | dpdk_meson_compile | dpdk_llvm_clang_compile | dpdk_msvc_compile | dpdk_mingw64_compile | dpdk_compile_ovs | dpdk_compile_spdk |
+=====================+====================+=========================+===================+======================+==================+===================+
| Ubuntu 20.04        | PASS               | SKIPPED                 | SKIPPED           | SKIPPED              | SKIPPED          | SKIPPED           |
+---------------------+--------------------+-------------------------+-------------------+----------------------+------------------+-------------------+
| FreeBSD 14.2        | PASS               | SKIPPED                 | SKIPPED           | SKIPPED              | SKIPPED          | SKIPPED           |
+---------------------+--------------------+-------------------------+-------------------+----------------------+------------------+-------------------+
| Fedora Linux 42     | PASS               | SKIPPED                 | SKIPPED           | SKIPPED              | PASS             | WARN              |
+---------------------+--------------------+-------------------------+-------------------+----------------------+------------------+-------------------+
| Windows Server 2022 | SKIPPED            | PASS                    | PASS              | PASS                 | SKIPPED          | SKIPPED           |
+---------------------+--------------------+-------------------------+-------------------+----------------------+------------------+-------------------+

==== 20 line log output for Fedora Linux 42 (dpdk_compile_spdk): ====
 --- Failed to get log output --- 
==== End log output ====

Ubuntu 20.04
	Kernel: 4.19
	Compiler: gcc gcc (Ubuntu 9.4.0-1ubuntu1~20.04.2) 9.4.0

FreeBSD 14.2
	Kernel: 14.2-RELEASE
	Compiler: clang 18.1.6

Fedora Linux 42
	Kernel: 5.15
	Compiler: gcc gcc (GCC) 15.2.1 20250808 (Red Hat 15.2.1-1)

Windows Server 2022
	Kernel: 10.0.20348.2031
	Compiler: clang 15.0.7, gcc 14.1.0 (MinGW), and MSVC VS 19.39.33521

To view detailed results, visit:
https://lab.dpdk.org/results/dashboard/patchsets/34367/

UNH-IOL DPDK Community Lab

To manage your email subscriptions, visit: 
https://lab.dpdk.org/results/dashboard/preferences/subscriptions/


More information about the test-report mailing list