|SUCCESS| pw158098 [PATCH] compressdev: fix coverity issue
dpdklab at iol.unh.edu
dpdklab at iol.unh.edu
Fri Oct 24 23:07:49 CEST 2025
Test-Label: iol-compile-amd64-testing
Test-Status: SUCCESS
http://dpdk.org/patch/158098
_Testing PASS_
Submitter: Sameer Vaze <svaze at qti.qualcomm.com>
Date: Friday, October 24 2025 19:11:08
DPDK git baseline: Repo:dpdk-next-crypto
Branch: master
CommitID:6edcec237e31fcdb848cca6c151ee7a5bf057c28
158098 --> testing pass
Upstream job id: Windows-Compile-DPDK-VS#7317
Test environment and result as below:
+---------------------+--------------------+-------------------+
| Environment | dpdk_meson_compile | dpdk_msvc_compile |
+=====================+====================+===================+
| Ubuntu 20.04 | PASS | SKIPPED |
+---------------------+--------------------+-------------------+
| FreeBSD 14.2 | PASS | SKIPPED |
+---------------------+--------------------+-------------------+
| Windows Server 2022 | SKIPPED | PASS |
+---------------------+--------------------+-------------------+
Ubuntu 20.04
Kernel: 4.19
Compiler: gcc gcc (Ubuntu 9.4.0-1ubuntu1~20.04.2) 9.4.0
FreeBSD 14.2
Kernel: 14.2-RELEASE
Compiler: clang 18.1.6
Windows Server 2022
Kernel: 10.0.20348.2031
Compiler: clang 15.0.7, gcc 14.1.0 (MinGW), and MSVC VS 19.39.33521
To view detailed results, visit:
https://lab.dpdk.org/results/dashboard/patchsets/34381/
UNH-IOL DPDK Community Lab
To manage your email subscriptions, visit:
https://lab.dpdk.org/results/dashboard/preferences/subscriptions/
More information about the test-report
mailing list