|WARNING| pw158108 [PATCH] mbuf: fix build failure if MBUF_HISTORY_D
    dpdklab at iol.unh.edu 
    dpdklab at iol.unh.edu
       
    Sat Oct 25 02:43:53 CEST 2025
    
    
  
Test-Label: iol-compile-amd64-testing
Test-Status: WARNING
http://dpdk.org/patch/158108
_Testing issues_
Submitter: Stephen Hemminger <stephen at networkplumber.org>
Date: Friday, October 24 2025 22:29:46 
DPDK git baseline: Repo:dpdk
  Branch: master
  CommitID:90f838a042f3e1bd663aca16bcdfc4dcd14b47d5
158108 --> testing issues
Upstream job id: Generic-DPDK-Compile-Meson#437422
Test environment and result as below:
+---------------------+-------------------------+-------------------+--------------------+----------------------+------------------+-------------------+
|     Environment     | dpdk_llvm_clang_compile | dpdk_msvc_compile | dpdk_meson_compile | dpdk_mingw64_compile | dpdk_compile_ovs | dpdk_compile_spdk |
+=====================+=========================+===================+====================+======================+==================+===================+
| Windows Server 2022 | PASS                    | PASS              | SKIPPED            | PASS                 | SKIPPED          | SKIPPED           |
+---------------------+-------------------------+-------------------+--------------------+----------------------+------------------+-------------------+
| FreeBSD 14.2        | SKIPPED                 | SKIPPED           | PASS               | SKIPPED              | SKIPPED          | SKIPPED           |
+---------------------+-------------------------+-------------------+--------------------+----------------------+------------------+-------------------+
| Ubuntu 20.04        | SKIPPED                 | SKIPPED           | PASS               | SKIPPED              | SKIPPED          | SKIPPED           |
+---------------------+-------------------------+-------------------+--------------------+----------------------+------------------+-------------------+
| Fedora Linux 42     | SKIPPED                 | SKIPPED           | PASS               | SKIPPED              | PASS             | WARN              |
+---------------------+-------------------------+-------------------+--------------------+----------------------+------------------+-------------------+
==== 20 line log output for Fedora Linux 42 (dpdk_compile_spdk): ====
 --- Failed to get log output --- 
==== End log output ====
Windows Server 2022
	Kernel: 10.0.20348.2031
	Compiler: clang 15.0.7, gcc 14.1.0 (MinGW), and MSVC VS 19.39.33521
FreeBSD 14.2
	Kernel: 14.2-RELEASE
	Compiler: clang 18.1.6
Ubuntu 20.04
	Kernel: 4.19
	Compiler: gcc gcc (Ubuntu 9.4.0-1ubuntu1~20.04.2) 9.4.0
Fedora Linux 42
	Kernel: 5.15
	Compiler: gcc gcc (GCC) 15.2.1 20250808 (Red Hat 15.2.1-1)
To view detailed results, visit:
https://lab.dpdk.org/results/dashboard/patchsets/34383/
UNH-IOL DPDK Community Lab
To manage your email subscriptions, visit: 
https://lab.dpdk.org/results/dashboard/preferences/subscriptions/
    
    
More information about the test-report
mailing list