|WARNING| pw158193 [PATCH] trace: fix build with clang 21
    dpdklab at iol.unh.edu 
    dpdklab at iol.unh.edu
       
    Tue Oct 28 21:00:12 CET 2025
    
    
  
Test-Label: iol-compile-amd64-testing
Test-Status: WARNING
http://dpdk.org/patch/158193
_Testing issues_
Submitter: David Marchand <david.marchand at redhat.com>
Date: Tuesday, October 28 2025 14:39:52 
DPDK git baseline: Repo:dpdk
  Branch: master
  CommitID:39b54f2dcf44ad1f91eabc7080cd5dea763607fd
158193 --> testing issues
Upstream job id: Generic-DPDK-Compile-Meson#438654
Test environment and result as below:
+---------------------+--------------------+-------------------+------------------+
|     Environment     | dpdk_meson_compile | dpdk_compile_spdk | dpdk_compile_ovs |
+=====================+====================+===================+==================+
| FreeBSD 14.2        | PASS               | SKIPPED           | SKIPPED          |
+---------------------+--------------------+-------------------+------------------+
| Ubuntu 20.04        | PASS               | SKIPPED           | SKIPPED          |
+---------------------+--------------------+-------------------+------------------+
| CentOS Stream 9     | PASS               | WARN              | SKIPPED          |
+---------------------+--------------------+-------------------+------------------+
| CentOS Stream 10    | PASS               | SKIPPED           | SKIPPED          |
+---------------------+--------------------+-------------------+------------------+
| Debian GNU/Linux 12 | PEND               | PEND              | SKIPPED          |
+---------------------+--------------------+-------------------+------------------+
| Fedora Linux 42     | PEND               | PEND              | PEND             |
+---------------------+--------------------+-------------------+------------------+
==== 20 line log output for CentOS Stream 9 (dpdk_compile_spdk): ====
 --- Failed to get log output --- 
==== End log output ====
FreeBSD 14.2
	Kernel: 14.2-RELEASE
	Compiler: clang 18.1.6
Ubuntu 20.04
	Kernel: 4.19
	Compiler: gcc gcc (Ubuntu 9.4.0-1ubuntu1~20.04.2) 9.4.0
CentOS Stream 9
	Kernel: 5.15
	Compiler: gcc gcc (GCC) 11.5.0 20240719 (Red Hat 11.5.0-11)
CentOS Stream 10
	Kernel: 5.15
	Compiler: gcc gcc (GCC) 14.2.1 20250110 (Red Hat 14.2.1-8)
Debian GNU/Linux 12
	Kernel: 5.15
	Compiler: gcc gcc (Debian 12.2.0-14+deb12u1) 12.2.0
Fedora Linux 42
	Kernel: 5.15
	Compiler: clang gcc (GCC) 15.2.1 20250808 (Red Hat 15.2.1-1)
To view detailed results, visit:
https://lab.dpdk.org/results/dashboard/patchsets/34405/
UNH-IOL DPDK Community Lab
To manage your email subscriptions, visit: 
https://lab.dpdk.org/results/dashboard/preferences/subscriptions/
    
    
More information about the test-report
mailing list