|SUCCESS| pw158203 [PATCH] [v3] fib6: implement RCU rule reclamation
dpdklab at iol.unh.edu
dpdklab at iol.unh.edu
Tue Oct 28 22:28:10 CET 2025
Test-Label: iol-compile-amd64-testing
Test-Status: SUCCESS
http://dpdk.org/patch/158203
_Testing PASS_
Submitter: Robin Jarry <rjarry at redhat.com>
Date: Tuesday, October 28 2025 17:37:05
DPDK git baseline: Repo:dpdk
Branch: master
CommitID:39b54f2dcf44ad1f91eabc7080cd5dea763607fd
158203 --> testing pass
Upstream job id: Windows-Compile-DPDK-VS#7351
Test environment and result as below:
+---------------------+--------------------+-------------------+
| Environment | dpdk_meson_compile | dpdk_msvc_compile |
+=====================+====================+===================+
| FreeBSD 14.2 | PASS | SKIPPED |
+---------------------+--------------------+-------------------+
| Ubuntu 20.04 | PASS | SKIPPED |
+---------------------+--------------------+-------------------+
| Windows Server 2022 | SKIPPED | PASS |
+---------------------+--------------------+-------------------+
FreeBSD 14.2
Kernel: 14.2-RELEASE
Compiler: clang 18.1.6
Ubuntu 20.04
Kernel: 4.19
Compiler: gcc gcc (Ubuntu 9.4.0-1ubuntu1~20.04.2) 9.4.0
Windows Server 2022
Kernel: 10.0.20348.2031
Compiler: clang 15.0.7, gcc 14.1.0 (MinGW), and MSVC VS 19.39.33521
To view detailed results, visit:
https://lab.dpdk.org/results/dashboard/patchsets/34407/
UNH-IOL DPDK Community Lab
To manage your email subscriptions, visit:
https://lab.dpdk.org/results/dashboard/preferences/subscriptions/
More information about the test-report
mailing list