|WARNING| pw158205-158204 [PATCH] [v1,3/3] app/test: fix issues with
    dpdklab at iol.unh.edu 
    dpdklab at iol.unh.edu
       
    Tue Oct 28 22:50:20 CET 2025
    
    
  
Test-Label: iol-compile-amd64-testing
Test-Status: WARNING
http://dpdk.org/patch/158204
_Testing issues_
Submitter: Jerin Jacob <jerinj at marvell.com>
Date: Tuesday, October 28 2025 17:23:23 
DPDK git baseline: Repo:dpdk
  Branch: master
  CommitID:39b54f2dcf44ad1f91eabc7080cd5dea763607fd
158205-158204 --> testing issues
Upstream job id: Windows-Compile-DPDK-VS#7352
Test environment and result as below:
+---------------------+--------------------+-------------------+-------------------+
|     Environment     | dpdk_meson_compile | dpdk_compile_spdk | dpdk_msvc_compile |
+=====================+====================+===================+===================+
| Ubuntu 20.04        | PASS               | SKIPPED           | SKIPPED           |
+---------------------+--------------------+-------------------+-------------------+
| FreeBSD 14.2        | PASS               | SKIPPED           | SKIPPED           |
+---------------------+--------------------+-------------------+-------------------+
| CentOS Stream 9     | PASS               | WARN              | SKIPPED           |
+---------------------+--------------------+-------------------+-------------------+
| Windows Server 2022 | SKIPPED            | SKIPPED           | PASS              |
+---------------------+--------------------+-------------------+-------------------+
==== 20 line log output for CentOS Stream 9 (dpdk_compile_spdk): ====
 --- Failed to get log output --- 
==== End log output ====
Ubuntu 20.04
	Kernel: 4.19
	Compiler: gcc gcc (Ubuntu 9.4.0-1ubuntu1~20.04.2) 9.4.0
FreeBSD 14.2
	Kernel: 14.2-RELEASE
	Compiler: clang 18.1.6
CentOS Stream 9
	Kernel: 5.15
	Compiler: gcc gcc (GCC) 11.5.0 20240719 (Red Hat 11.5.0-11)
Windows Server 2022
	Kernel: 10.0.20348.2031
	Compiler: clang 15.0.7, gcc 14.1.0 (MinGW), and MSVC VS 19.39.33521
To view detailed results, visit:
https://lab.dpdk.org/results/dashboard/patchsets/34408/
UNH-IOL DPDK Community Lab
To manage your email subscriptions, visit: 
https://lab.dpdk.org/results/dashboard/preferences/subscriptions/
    
    
More information about the test-report
mailing list