|SUCCESS| pw158206 [PATCH] bitmap: change return value of rte_bitmap
    dpdklab at iol.unh.edu 
    dpdklab at iol.unh.edu
       
    Tue Oct 28 23:43:29 CET 2025
    
    
  
Test-Label: iol-compile-amd64-testing
Test-Status: SUCCESS
http://dpdk.org/patch/158206
_Testing PASS_
Submitter: Stephen Hemminger <stephen at networkplumber.org>
Date: Tuesday, October 28 2025 20:44:32 
DPDK git baseline: Repo:dpdk
  Branch: master
  CommitID:39b54f2dcf44ad1f91eabc7080cd5dea763607fd
158206 --> testing pass
Upstream job id: Windows-Compile-DPDK-VS#7354
Test environment and result as below:
+---------------------+--------------------+-------------------+
|     Environment     | dpdk_meson_compile | dpdk_msvc_compile |
+=====================+====================+===================+
| Ubuntu 20.04        | PASS               | SKIPPED           |
+---------------------+--------------------+-------------------+
| FreeBSD 14.2        | PASS               | SKIPPED           |
+---------------------+--------------------+-------------------+
| Windows Server 2022 | SKIPPED            | PASS              |
+---------------------+--------------------+-------------------+
Ubuntu 20.04
	Kernel: 4.19
	Compiler: gcc gcc (Ubuntu 9.4.0-1ubuntu1~20.04.2) 9.4.0
FreeBSD 14.2
	Kernel: 14.2-RELEASE
	Compiler: clang 18.1.6
Windows Server 2022
	Kernel: 10.0.20348.2031
	Compiler: clang 15.0.7, gcc 14.1.0 (MinGW), and MSVC VS 19.39.33521
To view detailed results, visit:
https://lab.dpdk.org/results/dashboard/patchsets/34409/
UNH-IOL DPDK Community Lab
To manage your email subscriptions, visit: 
https://lab.dpdk.org/results/dashboard/preferences/subscriptions/
    
    
More information about the test-report
mailing list