|WARNING| pw156785-156786 [PATCH] [3/3] app/compress-perf: support f

dpdklab at iol.unh.edu dpdklab at iol.unh.edu
Sat Sep 20 03:08:44 CEST 2025


Test-Label: iol-unit-arm64-testing
Test-Status: WARNING
http://dpdk.org/patch/156786

_Testing issues_

Submitter: Sameer Vaze <svaze at qti.qualcomm.com>
Date: Friday, September 19 2025 18:48:20 
DPDK git baseline: Repo:dpdk-next-crypto
  Branch: master
  CommitID:4159ea62922ce41566c7bab44655ad78bee85458

156785-156786 --> testing issues

Upstream job id: Generic-Unit-Test-DPDK#373306

Test environment and result as below:

+------------------------------+----------------+--------------+---------------------------+------------------------------+
|         Environment          | dpdk_unit_test | lpm_autotest | cryptodev_sw_zuc_autotest | cryptodev_sw_snow3g_autotest |
+==============================+================+==============+===========================+==============================+
| CentOS Stream 9              | WARN           | SKIPPED      | SKIPPED                   | SKIPPED                      |
+------------------------------+----------------+--------------+---------------------------+------------------------------+
| CentOS Stream 10             | WARN           | SKIPPED      | SKIPPED                   | SKIPPED                      |
+------------------------------+----------------+--------------+---------------------------+------------------------------+
| Debian GNU/Linux 12          | WARN           | SKIPPED      | SKIPPED                   | SKIPPED                      |
+------------------------------+----------------+--------------+---------------------------+------------------------------+
| Fedora Linux 40              | WARN           | SKIPPED      | SKIPPED                   | SKIPPED                      |
+------------------------------+----------------+--------------+---------------------------+------------------------------+
| Fedora Linux 42              | WARN           | SKIPPED      | SKIPPED                   | SKIPPED                      |
+------------------------------+----------------+--------------+---------------------------+------------------------------+
| Fedora Linux 41              | WARN           | SKIPPED      | SKIPPED                   | SKIPPED                      |
+------------------------------+----------------+--------------+---------------------------+------------------------------+
| Ubuntu 24.04                 | WARN           | SKIPPED      | SKIPPED                   | SKIPPED                      |
+------------------------------+----------------+--------------+---------------------------+------------------------------+
| Ubuntu 20.04                 | WARN           | PASS         | SKIPPED                   | SKIPPED                      |
+------------------------------+----------------+--------------+---------------------------+------------------------------+
| Red Hat Enterprise Linux 9.5 | WARN           | SKIPPED      | SKIPPED                   | SKIPPED                      |
+------------------------------+----------------+--------------+---------------------------+------------------------------+
| Ubuntu 22.04                 | PASS           | SKIPPED      | SKIPPED                   | SKIPPED                      |
+------------------------------+----------------+--------------+---------------------------+------------------------------+
| Debian 12 (arm)              | SKIPPED        | SKIPPED      | WARN                      | WARN                         |
+------------------------------+----------------+--------------+---------------------------+------------------------------+

==== 20 line log output for Debian 12 (arm) (cryptodev_sw_snow3g_autotest): ====
84 |                 uint8_t *dictionary = malloc(DEFLATE_MAX_WINDOW_SIZE);
|                                       ^~~~~~
../drivers/compress/zlib/zlib_pmd.c:84:39: note: include '<stdlib.h>' or provide a declaration of 'malloc'
../drivers/compress/zlib/zlib_pmd.c:95:25: error: incompatible implicit declaration of built-in function 'free' [-Werror=builtin-declaration-mismatch]
95 |                         free(dictionary);
|                         ^~~~
../drivers/compress/zlib/zlib_pmd.c:95:25: note: include '<stdlib.h>' or provide a declaration of 'free'
../drivers/compress/zlib/zlib_pmd.c:113:25: error: incompatible implicit declaration of built-in function 'free' [-Werror=builtin-declaration-mismatch]
113 |                         free(dictionary);
|                         ^~~~
../drivers/compress/zlib/zlib_pmd.c:113:25: note: include '<stdlib.h>' or provide a declaration of 'free'
../drivers/compress/zlib/zlib_pmd.c:116:17: error: incompatible implicit declaration of built-in function 'free' [-Werror=builtin-declaration-mismatch]
116 |                 free(dictionary);
|                 ^~~~
../drivers/compress/zlib/zlib_pmd.c:116:17: note: include '<stdlib.h>' or provide a declaration of 'free'
cc1: all warnings being treated as errors
[2972/3763] Linking static target drivers/libtmp_rte_vdpa_mlx5.a
[2973/3763] Generating rte_vdpa_ifc.pmd.c with a custom command
[2974/3763] Generating rte_ml_cnxk.sym_chk with a custom command (wrapped by meson to capture output)
ninja: build stopped: subcommand failed.
==== End log output ====

CentOS Stream 9
	Kernel: 5.4
	Compiler: gcc gcc (GCC) 11.5.0 20240719 (Red Hat 11.5.0-11)

CentOS Stream 10
	Kernel: 5.4
	Compiler: gcc gcc (GCC) 14.2.1 20250110 (Red Hat 14.2.1-8)

Debian GNU/Linux 12
	Kernel: 5.4
	Compiler: gcc gcc (Debian 12.2.0-14+deb12u1) 12.2.0

Fedora Linux 40
	Kernel: 5.4
	Compiler: clang gcc (GCC) 14.2.1 20240912 (Red Hat 14.2.1-3)

Fedora Linux 42
	Kernel: 5.4
	Compiler: gcc gcc (GCC) 15.2.1 20250808 (Red Hat 15.2.1-1)

Fedora Linux 41
	Kernel: 5.4
	Compiler: gcc gcc (GCC) 14.3.1 20250523 (Red Hat 14.3.1-1)

Ubuntu 24.04
	Kernel: 5.4
	Compiler: gcc gcc (Ubuntu 13.3.0-6ubuntu2~24.04) 13.3.0

Ubuntu 20.04
	Kernel: 5.4
	Compiler: gcc gcc (Ubuntu 9.4.0-1ubuntu1~20.04.2) 9.4.0

Red Hat Enterprise Linux 9.5
	Kernel: 5.4
	Compiler: gcc gcc (GCC) 11.5.0 20240719 (Red Hat 11.5.0-2)

Ubuntu 22.04
	Kernel: 5.4
	Compiler: gcc gcc (Ubuntu 11.4.0-1ubuntu1~22.04) 11.4.0

Debian 12 (arm)
	Kernel: Depends on container host
	Compiler: gcc (Debian 12.2.0-14) 12.2.0

To view detailed results, visit:
https://lab.dpdk.org/results/dashboard/patchsets/34112/

UNH-IOL DPDK Community Lab

To manage your email subscriptions, visit: 
https://lab.dpdk.org/results/dashboard/preferences/subscriptions/


More information about the test-report mailing list