|SUCCESS| pw157111 [PATCH] net/mlx5: fix IPv6 DSCP offset in NT HWS
dpdklab at iol.unh.edu
dpdklab at iol.unh.edu
Tue Sep 30 11:17:56 CEST 2025
Test-Label: iol-compile-amd64-testing
Test-Status: SUCCESS
http://dpdk.org/patch/157111
_Testing PASS_
Submitter: Gavin Li <gavinl at nvidia.com>
Date: Tuesday, September 30 2025 07:28:27
DPDK git baseline: Repo:dpdk-next-net-mlx
Branch: master
CommitID:2374f33e1d964e100895fd294966380c46f0886d
157111 --> testing pass
Upstream job id: Windows-Compile-DPDK-VS#7057
Test environment and result as below:
+---------------------+--------------------+-------------------+
| Environment | dpdk_meson_compile | dpdk_msvc_compile |
+=====================+====================+===================+
| Ubuntu 20.04 | PASS | SKIPPED |
+---------------------+--------------------+-------------------+
| FreeBSD 14.2 | PASS | SKIPPED |
+---------------------+--------------------+-------------------+
| Windows Server 2022 | SKIPPED | PASS |
+---------------------+--------------------+-------------------+
Ubuntu 20.04
Kernel: 4.19
Compiler: gcc gcc (Ubuntu 9.4.0-1ubuntu1~20.04.2) 9.4.0
FreeBSD 14.2
Kernel: 14.2-RELEASE
Compiler: clang 18.1.6
Windows Server 2022
Kernel: 10.0.20348.2031
Compiler: clang 15.0.7, gcc 14.1.0 (MinGW), and MSVC VS 19.39.33521
To view detailed results, visit:
https://lab.dpdk.org/results/dashboard/patchsets/34178/
UNH-IOL DPDK Community Lab
To manage your email subscriptions, visit:
https://lab.dpdk.org/results/dashboard/preferences/subscriptions/
More information about the test-report
mailing list