|SUCCESS| pw157112-157113 [PATCH] [v4,2/2] net/idpf: enable AVX2 for
dpdklab at iol.unh.edu
dpdklab at iol.unh.edu
Tue Sep 30 12:12:51 CEST 2025
Test-Label: iol-compile-amd64-testing
Test-Status: SUCCESS
http://dpdk.org/patch/157113
_Testing PASS_
Submitter: Shaiq Wani <shaiq.wani at intel.com>
Date: Tuesday, September 30 2025 09:07:09
DPDK git baseline: Repo:dpdk-next-net-intel
Branch: master
CommitID:9845e5848bbe337306fb6ae2a6b1ce5e6ab5b714
157112-157113 --> testing pass
Upstream job id: Windows-Compile-DPDK-Native#31319
Test environment and result as below:
+---------------------+--------------------+-------------------+-------------------------+
| Environment | dpdk_meson_compile | dpdk_msvc_compile | dpdk_llvm_clang_compile |
+=====================+====================+===================+=========================+
| FreeBSD 14.2 | PASS | SKIPPED | SKIPPED |
+---------------------+--------------------+-------------------+-------------------------+
| Ubuntu 20.04 | PASS | SKIPPED | SKIPPED |
+---------------------+--------------------+-------------------+-------------------------+
| Windows Server 2022 | SKIPPED | PASS | PASS |
+---------------------+--------------------+-------------------+-------------------------+
FreeBSD 14.2
Kernel: 14.2-RELEASE
Compiler: clang 18.1.6
Ubuntu 20.04
Kernel: 4.19
Compiler: gcc gcc (Ubuntu 9.4.0-1ubuntu1~20.04.2) 9.4.0
Windows Server 2022
Kernel: 10.0.20348.2031
Compiler: clang 15.0.7, gcc 14.1.0 (MinGW), and MSVC VS 19.39.33521
To view detailed results, visit:
https://lab.dpdk.org/results/dashboard/patchsets/34179/
UNH-IOL DPDK Community Lab
To manage your email subscriptions, visit:
https://lab.dpdk.org/results/dashboard/preferences/subscriptions/
More information about the test-report
mailing list