|SUCCESS| pw157114-157133 [PATCH] [v4,20/20] doc: update for txgbe

dpdklab at iol.unh.edu dpdklab at iol.unh.edu
Tue Sep 30 13:15:08 CEST 2025


Test-Label: iol-compile-amd64-testing
Test-Status: SUCCESS
http://dpdk.org/patch/157133

_Testing PASS_

Submitter: Zaiyu Wang <zaiyuwang at trustnetic.com>
Date: Tuesday, September 30 2025 09:59:52 
DPDK git baseline: Repo:dpdk-next-net
  Branch: master
  CommitID:c04bbd131b2c14b3049bf86d3ef367b34e6fdf1e

157114-157133 --> testing pass

Upstream job id: Windows-Compile-DPDK-Native#31322

Test environment and result as below:

+---------------------+--------------------+-------------------------+-------------------+----------------------+
|     Environment     | dpdk_meson_compile | dpdk_llvm_clang_compile | dpdk_msvc_compile | dpdk_mingw64_compile |
+=====================+====================+=========================+===================+======================+
| Ubuntu 20.04        | PASS               | SKIPPED                 | SKIPPED           | SKIPPED              |
+---------------------+--------------------+-------------------------+-------------------+----------------------+
| FreeBSD 14.2        | PASS               | SKIPPED                 | SKIPPED           | SKIPPED              |
+---------------------+--------------------+-------------------------+-------------------+----------------------+
| Windows Server 2022 | SKIPPED            | PASS                    | PASS              | PASS                 |
+---------------------+--------------------+-------------------------+-------------------+----------------------+


Ubuntu 20.04
	Kernel: 4.19
	Compiler: gcc gcc (Ubuntu 9.4.0-1ubuntu1~20.04.2) 9.4.0

FreeBSD 14.2
	Kernel: 14.2-RELEASE
	Compiler: clang 18.1.6

Windows Server 2022
	Kernel: 10.0.20348.2031
	Compiler: clang 15.0.7, gcc 14.1.0 (MinGW), and MSVC VS 19.39.33521

To view detailed results, visit:
https://lab.dpdk.org/results/dashboard/patchsets/34180/

UNH-IOL DPDK Community Lab

To manage your email subscriptions, visit: 
https://lab.dpdk.org/results/dashboard/preferences/subscriptions/


More information about the test-report mailing list