[dpdk-test-report] |SUCCESS| pw61344 [PATCH] [v4] ethdev: add HIGIG2 key field to flow API
dpdklab at iol.unh.edu
dpdklab at iol.unh.edu
Thu Oct 17 08:06:12 CEST 2019
Test-Label: iol-compilation
Test-Status: SUCCESS
http://dpdk.org/patch/61344
_Compile Testing PASS_
Submitter: Kiran Kumar Kokkilagadda <kirankumark at marvell.com>
Date: Thursday, October 17 2019 04:15:50
DPDK git baseline: Repo:dpdk-next-net
Branch: master
CommitID:b240a6949c93201e6be5a1aa856d025e3f9ce4b9
61344 --> compile testing pass
Test environment and result as below:
+--------------+------------------+-------------------+--------------+
| Environment | dpdk_compile_ovs | dpdk_compile_spdk | dpdk_compile |
+==============+==================+===================+==============+
| Ubuntu 18.04 | PASS | PASS | PASS |
+--------------+------------------+-------------------+--------------+
| CentOS 8 | PASS | | PASS |
+--------------+------------------+-------------------+--------------+
| FreeBSD 11.2 | | PASS | PASS |
+--------------+------------------+-------------------+--------------+
Ubuntu 18.04
Kernel: 4.15.0-generic
GCC: 7.4
CentOS 8
Kernel: 4.18.0.el8_0
GCC: 8.2
FreeBSD 11.2
Kernel: 11.2
GCC: 8.3
https://lab.dpdk.org/results/dashboard/patchsets/7980/
UNH-IOL DPDK Performance Test Lab
To manage your email subscriptions visit:
https://lab.dpdk.org/results/dashboard/preferences/subscriptions/
More information about the test-report
mailing list