|SUCCESS| pw136311 [PATCH] event/cnxk: remove unused files
dpdklab at iol.unh.edu
dpdklab at iol.unh.edu
Fri Feb 2 13:10:23 CET 2024
Test-Label: iol-compile-amd64-testing
Test-Status: SUCCESS
http://dpdk.org/patch/136311
_Testing PASS_
Submitter: Pavan Nikhilesh Bhagavatula <pbhagavatula at marvell.com>
Date: Friday, February 02 2024 09:44:45
DPDK git baseline: Repo:dpdk
Branch: master
CommitID:dc2f10397574f2ad99d1c2a139e5053f777e8f0b
136311 --> testing pass
Test environment and result as below:
+-----------------+--------------------+
| Environment | dpdk_meson_compile |
+=================+====================+
| CentOS Stream 9 | PASS |
+-----------------+--------------------+
| Debian Bullseye | PASS |
+-----------------+--------------------+
| FreeBSD 13.2 | PASS |
+-----------------+--------------------+
CentOS Stream 9
Kernel: 4.18.0-240.10.1.el8_3.x86_64
Compiler: gcc 11.3.1 20220421
Debian Bullseye
Kernel: 5.4.0-122-generic
Compiler: gcc 10.2.1-6
FreeBSD 13.2
Kernel: 13.2
Compiler: clang 11.3.0
To view detailed results, visit:
https://lab.dpdk.org/results/dashboard/patchsets/29034/
UNH-IOL DPDK Community Lab
To manage your email subscriptions, visit:
https://lab.dpdk.org/results/dashboard/preferences/subscriptions/
More information about the test-report
mailing list