|SUCCESS| pw136311 [PATCH] event/cnxk: remove unused files
dpdklab at iol.unh.edu
dpdklab at iol.unh.edu
Fri Feb 2 13:11:19 CET 2024
Test-Label: iol-unit-arm64-testing
Test-Status: SUCCESS
http://dpdk.org/patch/136311
_Testing PASS_
Submitter: Pavan Nikhilesh Bhagavatula <pbhagavatula at marvell.com>
Date: Friday, February 02 2024 09:44:45
DPDK git baseline: Repo:dpdk
Branch: master
CommitID:dc2f10397574f2ad99d1c2a139e5053f777e8f0b
136311 --> testing pass
Test environment and result as below:
+-----------------------+----------------+------------------------------+
| Environment | dpdk_unit_test | cryptodev_sw_snow3g_autotest |
+=======================+================+==============================+
| CentOS Stream 9 (ARM) | PASS | SKIPPED |
+-----------------------+----------------+------------------------------+
| Fedora 38 (ARM) | PASS | SKIPPED |
+-----------------------+----------------+------------------------------+
| Debian 11 (arm) | SKIPPED | PASS |
+-----------------------+----------------+------------------------------+
CentOS Stream 9 (ARM)
Kernel: Container Host Kernel
Compiler: gcc 11.3.1
Fedora 38 (ARM)
Kernel: Depends on container host
Compiler: gcc 13.1.1
Debian 11 (arm)
Kernel: Container Host Kernel
Compiler: gcc 10.2.1
To view detailed results, visit:
https://lab.dpdk.org/results/dashboard/patchsets/29034/
UNH-IOL DPDK Community Lab
To manage your email subscriptions, visit:
https://lab.dpdk.org/results/dashboard/preferences/subscriptions/
More information about the test-report
mailing list