|SUCCESS| pw136576-136578 [PATCH] [v2,3/3] event/cnxk: support DMA e

dpdklab at iol.unh.edu dpdklab at iol.unh.edu
Fri Feb 9 21:28:51 CET 2024


Test-Label: iol-compile-amd64-testing
Test-Status: SUCCESS
http://dpdk.org/patch/136578

_Testing PASS_

Submitter: Amit Prakash Shukla <amitprakashs at marvell.com>
Date: Friday, February 09 2024 19:43:47 
DPDK git baseline: Repo:dpdk
  Branch: master
  CommitID:c9e4d060a1c3436b02919d525b16d82f6443629c

136576-136578 --> testing pass

Test environment and result as below:

+---------------------+--------------------+----------------------+
|     Environment     | dpdk_meson_compile | dpdk_mingw64_compile |
+=====================+====================+======================+
| FreeBSD 13.2        | PASS               | SKIPPED              |
+---------------------+--------------------+----------------------+
| Windows Server 2022 | PASS               | SKIPPED              |
+---------------------+--------------------+----------------------+
| CentOS Stream 9     | PASS               | SKIPPED              |
+---------------------+--------------------+----------------------+
| CentOS Stream 8     | PASS               | SKIPPED              |
+---------------------+--------------------+----------------------+
| Windows Server 2019 | SKIPPED            | PASS                 |
+---------------------+--------------------+----------------------+


FreeBSD 13.2
	Kernel: 13.2
	Compiler: clang 11.3.0

Windows Server 2022
	Kernel: OS Build 20348.2031
	Compiler: MSVC VS-Preview

CentOS Stream 9
	Kernel: 4.18.0-240.10.1.el8_3.x86_64
	Compiler: gcc 11.3.1 20220421

CentOS Stream 8
	Kernel: 4.18.0-240.10.1.el8_3.x86_64
	Compiler: gcc 8.4.1 20200928

Windows Server 2019
	Kernel: 10.0
	Compiler: clang 14.0 and gcc 8.1.0 (MinGW)

To view detailed results, visit:
https://lab.dpdk.org/results/dashboard/patchsets/29108/

UNH-IOL DPDK Community Lab

To manage your email subscriptions, visit: 
https://lab.dpdk.org/results/dashboard/preferences/subscriptions/


More information about the test-report mailing list