|SUCCESS| pw136576-136578 [PATCH] [v2,3/3] event/cnxk: support DMA e
dpdklab at iol.unh.edu
dpdklab at iol.unh.edu
Fri Feb 9 21:29:19 CET 2024
Test-Label: iol-abi-testing
Test-Status: SUCCESS
http://dpdk.org/patch/136578
_Testing PASS_
Submitter: Amit Prakash Shukla <amitprakashs at marvell.com>
Date: Friday, February 09 2024 19:43:47
DPDK git baseline: Repo:dpdk
Branch: master
CommitID:c9e4d060a1c3436b02919d525b16d82f6443629c
136576-136578 --> testing pass
Test environment and result as below:
+-----------------+----------+
| Environment | abi_test |
+=================+==========+
| CentOS Stream 9 | PASS |
+-----------------+----------+
| Debian Bullseye | PASS |
+-----------------+----------+
| Fedora 38 | PASS |
+-----------------+----------+
| Fedora 37 | PASS |
+-----------------+----------+
| Ubuntu 22.04 | PASS |
+-----------------+----------+
CentOS Stream 9
Kernel: 4.18.0-240.10.1.el8_3.x86_64
Compiler: gcc 11.3.1 20220421
Debian Bullseye
Kernel: 5.4.0-122-generic
Compiler: gcc 10.2.1-6
Fedora 38
Kernel: Depends on container host
Compiler: gcc 13.1.1
Fedora 37
Kernel: Depends on container host system
Compiler: gcc 12.3.1
Ubuntu 22.04
Kernel: 4.18.0-240.10.1.el8_3.x86_64
Compiler: gcc 11.3.0
To view detailed results, visit:
https://lab.dpdk.org/results/dashboard/patchsets/29108/
UNH-IOL DPDK Community Lab
To manage your email subscriptions, visit:
https://lab.dpdk.org/results/dashboard/preferences/subscriptions/
More information about the test-report
mailing list