|WARNING| pw152891-152903 [PATCH] [RFC,13/13] app/dumpcap: use port

dpdklab at iol.unh.edu dpdklab at iol.unh.edu
Sat Apr 12 04:21:00 CEST 2025


Test-Label: iol-sample-apps-testing
Test-Status: WARNING
http://dpdk.org/patch/152903

_Testing issues_

Submitter: Stephen Hemminger <stephen at networkplumber.org>
Date: Friday, April 11 2025 23:44:50 
DPDK git baseline: Repo:dpdk
  Branch: master
  CommitID:ca1690ebd224f148268285b15b97441ccdbdd07e

152891-152903 --> testing issues

Upstream job id: Template-DTS-Pipeline#221339

Test environment and result as below:

+--------------------+----------------------+----------------------+
|    Environment     | compressdev_zlib_pmd | dpdk_fips_validation |
+====================+======================+======================+
| Ubuntu 22.04 (ARM) | PASS                 | SKIPPED              |
+--------------------+----------------------+----------------------+
| Ubuntu 22.04       | PASS                 | SKIPPED              |
+--------------------+----------------------+----------------------+
| Ubuntu 20.04       | SKIPPED              | WARN                 |
+--------------------+----------------------+----------------------+

==== 20 line log output for Ubuntu 20.04 (dpdk_fips_validation): ====
1111 |  static bool warn_once = true;
|  ^~~~~~
[3113/3512] Compiling C object drivers/librte_power_intel_uncore.so.25.2.p/meson-generated_.._rte_power_intel_uncore.pmd.c.o
[3114/3512] Linking static target drivers/libtmp_rte_power_kvm_vm.a
[3115/3512] Generating rte_baseband_la12xx.sym_chk with a custom command (wrapped by meson to capture output)
[3116/3512] Generating rte_event_octeontx.sym_chk with a custom command (wrapped by meson to capture output)
[3117/3512] Generating rte_power_acpi.sym_chk with a custom command (wrapped by meson to capture output)
[3118/3512] Generating rte_power_cppc.sym_chk with a custom command (wrapped by meson to capture output)
[3119/3512] Compiling C object drivers/libtmp_rte_baseband_turbo_sw.a.p/baseband_turbo_sw_bbdev_turbo_software.c.o
[3120/3512] Generating symbol file drivers/librte_crypto_octeontx.so.25.2.p/librte_crypto_octeontx.so.25.2.symbols
[3121/3512] Generating rte_baseband_fpga_lte_fec.sym_chk with a custom command (wrapped by meson to capture output)
[3122/3512] Generating rte_power_amd_pstate.sym_chk with a custom command (wrapped by meson to capture output)
[3123/3512] Generating rte_power_intel_pstate.sym_chk with a custom command (wrapped by meson to capture output)
[3124/3512] Generating rte_power_intel_uncore.sym_chk with a custom command (wrapped by meson to capture output)
[3125/3512] Generating rte_baseband_fpga_5gnr_fec.sym_chk with a custom command (wrapped by meson to capture output)
[3126/3512] Generating rte_baseband_null.sym_chk with a custom command (wrapped by meson to capture output)
[3127/3512] Compiling C object drivers/libtmp_rte_baseband_acc.a.p/baseband_acc_rte_acc100_pmd.c.o
[3128/3512] Compiling C object drivers/libtmp_rte_baseband_acc.a.p/baseband_acc_rte_vrb_pmd.c.o
[3129/3512] Compiling C object drivers/libtmp_rte_crypto_cnxk.a.p/crypto_cnxk_cn10k_cryptodev_ops.c.o
ninja: build stopped: subcommand failed.
==== End log output ====

Ubuntu 22.04 (ARM)
	Kernel: 5.15.0-97-generic
	Compiler: gcc gcc (Ubuntu 11.4.0-1ubuntu1~22.04) 11.4.0

Ubuntu 22.04
	Kernel: 5.15.0-100-generic
	Compiler: gcc gcc (Ubuntu 11.4.0-1ubuntu1~22.04) 11.4.0

Ubuntu 20.04
	Kernel: Depends on container host
	Compiler: gcc (Ubuntu 9.4.0-1ubuntu1~20.04.2) 9.4.0

To view detailed results, visit:
https://lab.dpdk.org/results/dashboard/patchsets/33000/

UNH-IOL DPDK Community Lab

To manage your email subscriptions, visit: 
https://lab.dpdk.org/results/dashboard/preferences/subscriptions/


More information about the test-report mailing list