|WARNING| pw147516 [PATCH] [1/1] doc: virtual function MTU settings

dpdklab at iol.unh.edu dpdklab at iol.unh.edu
Tue Nov 5 19:34:48 CET 2024


Test-Label: iol-sample-apps-testing
Test-Status: WARNING
http://dpdk.org/patch/147516

_Testing issues_

Submitter: Slava Ovsiienko <viacheslavo at nvidia.com>
Date: Monday, October 28 2024 14:45:09 
DPDK git baseline: Repo:dpdk
  Branch: master
  CommitID:8c686c9473005fcb89338b190a7aca19c3fb2c54

147516 --> testing issues

Upstream job id: ACVP-FIPS-testing#7759

Test environment and result as below:

+--------------------+----------------------+----------------------+
|    Environment     | compressdev_zlib_pmd | dpdk_fips_validation |
+====================+======================+======================+
| Ubuntu 22.04 (ARM) | PASS                 | SKIPPED              |
+--------------------+----------------------+----------------------+
| Ubuntu 22.04       | PASS                 | SKIPPED              |
+--------------------+----------------------+----------------------+
| Ubuntu 20.04       | SKIPPED              | WARN                 |
+--------------------+----------------------+----------------------+

==== 20 line log output for Ubuntu 20.04 (dpdk_fips_validation): ====
[2998/3011] Compiling C object examples/dpdk-fips_validation.p/fips_validation_fips_validation_rsa.c.o
[2999/3011] Compiling C object examples/dpdk-fips_validation.p/fips_validation_fips_validation_cmac.c.o
[3000/3011] Compiling C object examples/dpdk-fips_validation.p/fips_validation_fips_validation_eddsa.c.o
[3001/3011] Compiling C object examples/dpdk-fips_validation.p/fips_validation_fips_validation_xts.c.o
[3002/3011] Compiling C object examples/dpdk-fips_validation.p/fips_validation_fips_validation_ecdsa.c.o
[3003/3011] Compiling C object app/dpdk-test.p/test_test_memcpy_perf.c.o
[3004/3011] Compiling C object examples/dpdk-fips_validation.p/fips_validation_fips_dev_self_test.c.o
[3005/3011] Compiling C object app/dpdk-test.p/test_virtual_pmd.c.o
[3006/3011] Compiling C object examples/dpdk-fips_validation.p/fips_validation_main.c.o
[3007/3011] Linking target examples/dpdk-fips_validation
[3008/3011] Compiling C object app/dpdk-test.p/test_test_trace_perf.c.o
[3009/3011] Compiling C object app/dpdk-test.p/test_test_ring_perf.c.o
[3010/3011] Compiling C object app/dpdk-test.p/test_test_ring.c.o
[3011/3011] Linking target app/dpdk-test
Processing file ../out/acvp-aes-cbc-vectors.json... Done
Processing file ../out/cmac-aes-vectors.json... Done
Processing file ../out/acvp-aes-gmac-vectors.json... Done
Processing file ../out/hmac-sha-1-vectors.json... Done
Processing file ../out/acvp-tdes-cbc-vectors.json... Done
Processing file ../out/acvp-aes-ctr-vectors.json... Done
==== End log output ====

Ubuntu 22.04 (ARM)
	Kernel: 5.15.0-97-generic
	Compiler: gcc gcc (Ubuntu 11.4.0-1ubuntu1~22.04) 11.4.0

Ubuntu 22.04
	Kernel: 5.15.0-100-generic
	Compiler: gcc gcc (Ubuntu 11.4.0-1ubuntu1~22.04) 11.4.0

Ubuntu 20.04
	Kernel: Depends on container host
	Compiler: gcc (Ubuntu 9.4.0-1ubuntu1~20.04.2) 9.4.0

To view detailed results, visit:
https://lab.dpdk.org/results/dashboard/patchsets/31725/

UNH-IOL DPDK Community Lab

To manage your email subscriptions, visit: 
https://lab.dpdk.org/results/dashboard/preferences/subscriptions/


More information about the test-report mailing list