|WARNING| pw147514 [PATCH] igc: fix invalid length and corrupted mul

dpdklab at iol.unh.edu dpdklab at iol.unh.edu
Tue Nov 5 19:52:55 CET 2024


Test-Label: iol-sample-apps-testing
Test-Status: WARNING
http://dpdk.org/patch/147514

_Testing issues_

Submitter: Martin Weiser <martin.weiser at allegro-packets.com>
Date: Monday, October 28 2024 14:17:07 
DPDK git baseline: Repo:dpdk
  Branch: master
  CommitID:e281b02d873b4d62280d323157a5877b70d01e07

147514 --> testing issues

Upstream job id: ACVP-FIPS-testing#7760

Test environment and result as below:

+--------------------+----------------------+----------------------+
|    Environment     | compressdev_zlib_pmd | dpdk_fips_validation |
+====================+======================+======================+
| Ubuntu 22.04 (ARM) | PASS                 | SKIPPED              |
+--------------------+----------------------+----------------------+
| Ubuntu 22.04       | PASS                 | SKIPPED              |
+--------------------+----------------------+----------------------+
| Ubuntu 20.04       | SKIPPED              | WARN                 |
+--------------------+----------------------+----------------------+

==== 20 line log output for Ubuntu 20.04 (dpdk_fips_validation): ====
[2994/3012] Compiling C object examples/dpdk-fips_validation.p/fips_validation_fips_validation_tdes.c.o
[2995/3012] Compiling C object examples/dpdk-fips_validation.p/fips_validation_fips_validation.c.o
[2996/3012] Compiling C object examples/dpdk-fips_validation.p/fips_validation_fips_validation_ccm.c.o
[2997/3012] Compiling C object examples/dpdk-fips_validation.p/fips_validation_fips_validation_gcm.c.o
[2998/3012] Compiling C object examples/dpdk-fips_validation.p/fips_validation_fips_validation_cmac.c.o
[2999/3012] Compiling C object app/dpdk-test.p/test_test_table_combined.c.o
[3000/3012] Compiling C object examples/dpdk-fips_validation.p/fips_validation_fips_validation_sha.c.o
[3001/3012] Compiling C object examples/dpdk-fips_validation.p/fips_validation_fips_validation_xts.c.o
[3002/3012] Compiling C object examples/dpdk-fips_validation.p/fips_validation_fips_validation_rsa.c.o
[3003/3012] Compiling C object examples/dpdk-fips_validation.p/fips_validation_fips_validation_ecdsa.c.o
[3004/3012] Compiling C object examples/dpdk-fips_validation.p/fips_validation_fips_validation_eddsa.c.o
[3005/3012] Compiling C object examples/dpdk-fips_validation.p/fips_validation_fips_dev_self_test.c.o
[3006/3012] Compiling C object app/dpdk-test.p/test_virtual_pmd.c.o
[3007/3012] Compiling C object examples/dpdk-fips_validation.p/fips_validation_main.c.o
[3008/3012] Linking target examples/dpdk-fips_validation
[3009/3012] Compiling C object app/dpdk-test.p/test_test_trace_perf.c.o
[3010/3012] Compiling C object app/dpdk-test.p/test_test_ring_perf.c.o
[3011/3012] Compiling C object app/dpdk-test.p/test_test_ring.c.o
[3012/3012] Linking target app/dpdk-test
Processing file ../out/acvp-aes-cbc-vectors.json... Processing file ../out/cmac-aes-vectors.json... Processing file ../out/acvp-aes-gmac-vectors.json... Processing file ../out/hmac-sha-1-vectors.json... Processing file ../out/acvp-tdes-cbc-vectors.json... Processing file ../out/acvp-aes-ctr-vectors.json...
==== End log output ====

Ubuntu 22.04 (ARM)
	Kernel: 5.15.0-97-generic
	Compiler: gcc gcc (Ubuntu 11.4.0-1ubuntu1~22.04) 11.4.0

Ubuntu 22.04
	Kernel: 5.15.0-100-generic
	Compiler: gcc gcc (Ubuntu 11.4.0-1ubuntu1~22.04) 11.4.0

Ubuntu 20.04
	Kernel: Depends on container host
	Compiler: gcc (Ubuntu 9.4.0-1ubuntu1~20.04.2) 9.4.0

To view detailed results, visit:
https://lab.dpdk.org/results/dashboard/patchsets/31723/

UNH-IOL DPDK Community Lab

To manage your email subscriptions, visit: 
https://lab.dpdk.org/results/dashboard/preferences/subscriptions/


More information about the test-report mailing list